BEGIN:VCALENDAR
VERSION:2.0
PRODID:-//ChamberMaster//Event Calendar 2.0//EN
METHOD:PUBLISH
X-PUBLISHED-TTL:P3D
REFRESH-INTERVAL:P3D
CALSCALE:GREGORIAN
BEGIN:VEVENT
DTSTART:20170407T210000Z
DTEND:20170407T230000Z
X-MICROSOFT-CDO-ALLDAYEVENT:FALSE
SUMMARY:The Art of Larry Moore: Newton's Third Law Opening Reception
DESCRIPTION:Larry is an award winning artist and instructor/creative coach who will be displaying his contemporary and abstract pieces inside our Richard Low Evans Gallery. Enjoy the bold strokes and enticing colors of this remarkable artist. This exhibit will be on display through May 7\, 2017.
X-ALT-DESC;FMTTYPE=text/html:<p>Larry is an award winning artist and instructor/creative coach who will be displaying his contemporary and abstract pieces inside our Richard Low Evans Gallery. Enjoy the bold strokes and enticing colors of this remarkable artist. This exhibit will be on display through May 7\, 2017.<br />\n<br />\n&nbsp\;</p>\n
LOCATION:Blue Ridge Mountains Arts Association 420 West Main Street Blue Ridge\, GA 30513
UID:e.256.71043
SEQUENCE:3
DTSTAMP:20260420T024521Z
URL:https://members.visitblairsvillega.com/events/details/the-art-of-larry-moore-newton-s-third-law-opening-reception-71043
END:VEVENT

END:VCALENDAR
