BEGIN:VCALENDAR
VERSION:2.0
PRODID:-//ChamberMaster//Event Calendar 2.0//EN
METHOD:PUBLISH
X-PUBLISHED-TTL:P3D
REFRESH-INTERVAL:P3D
CALSCALE:GREGORIAN
BEGIN:VEVENT
DTSTART:20131005T140000Z
DTEND:20140110T230000Z
X-MICROSOFT-CDO-ALLDAYEVENT:FALSE
SUMMARY:The Art of Marc Moss
DESCRIPTION:Enjoy realism\, minimalism\, abstract and more with the creations of artist in residence\, Marc Moss. His subjects match his personality... charming\, independent\, creative\, direct\, and colorful.
X-ALT-DESC;FMTTYPE=text/html:<span style="language: en-US\;"><span style="font-size: 12pt\;">Enjoy realism\, minimalism\, abstract and more with the creations of artist in residence\,&nbsp\;Marc Moss. His subjects match his personality... charming\, independent\, creative\, direct\, and colorful.</span></span><br />\n&nbsp\;<br />\n
LOCATION:The Art Center 420 West Main St. Blue Ridge\, GA 30513
UID:e.256.19540
SEQUENCE:3
DTSTAMP:20260424T182421Z
URL:https://members.visitblairsvillega.com/events/details/the-art-of-marc-moss-10-05-2013-19540
END:VEVENT

END:VCALENDAR
