BEGIN:VCALENDAR
VERSION:2.0
PRODID:-//ChamberMaster//Event Calendar 2.0//EN
METHOD:PUBLISH
X-PUBLISHED-TTL:P3D
REFRESH-INTERVAL:P3D
CALSCALE:GREGORIAN
BEGIN:VEVENT
DTSTART:20140514T140000Z
DTEND:20140514T220000Z
X-MICROSOFT-CDO-ALLDAYEVENT:FALSE
SUMMARY:The Art of Marilyn Williamson-Artist in Residence
DESCRIPTION:Enjoy the graphite\, colored pencil\, watercolor\, pastel\, and ink drawings and paintings of botanical and oral subject matter\, dogs and miscellaneous subjects as well.  Also enjoy a display of a well-preserved herbarium of many plants from the Southern Appalachian region nearly a century ago created by a young woman who lived in Asheville in 1915.  Some of Marilyn's work will portray these plants as well.\n\nOpening reception\, April 4\, 5 - 7pm.
X-ALT-DESC;FMTTYPE=text/html:<span style="font-size: 16px\;"><span style="font-family: adobe caslon pro bold\,serif\;">Enjoy the graphite\, colored pencil\, watercolor\, pastel\, and ink drawings and paintings of botanical and oral subject matter\, dogs and miscellaneous subjects as well. &nbsp\;Also enjoy a display of a well-preserved herbarium of many plants from the Southern Appalachian region nearly a century ago created by a young woman who lived in Asheville in 1915. &nbsp\;Some of Marilyn&rsquo\;s work will portray these plants as well.<br />\nOpening reception\, April 4\, 5 - 7pm.</span></span><br />\n&nbsp\;
LOCATION:Blue Ridge Mountains Arts Association (The Art Center) 420 West Main Street Blue Ridge\, GA 30513
UID:e.256.22516
SEQUENCE:3
DTSTAMP:20260424T135305Z
URL:https://members.visitblairsvillega.com/events/details/the-art-of-marilyn-williamson-artist-in-residence-05-14-2014-22516
END:VEVENT

END:VCALENDAR
