BEGIN:VCALENDAR
VERSION:2.0
PRODID:-//ChamberMaster//Event Calendar 2.0//EN
METHOD:PUBLISH
X-PUBLISHED-TTL:P3D
REFRESH-INTERVAL:P3D
CALSCALE:GREGORIAN
BEGIN:VEVENT
DTSTART:20140426T140000Z
DTEND:20140426T220000Z
X-MICROSOFT-CDO-ALLDAYEVENT:FALSE
SUMMARY:The Art of Marsha Hamby Savage
DESCRIPTION:Enjoy the breathtaking pastel and oil creations of Georgia artist Marsha Hamby Savage. Her love of the outdoors\, and of art itself\, is beautifully transferred from her heart and mind to canvas.\n\nOpening reception is April 4\, 5-7pm.
X-ALT-DESC;FMTTYPE=text/html:<span style="font-size: 12pt\;"><span style="font-family: adobe caslon pro bold\,serif\;">Enjoy the breathtaking pastel and oil creations of Georgia artist Marsha Hamby Savage. Her love of the outdoors\, and of art itself\, is beautifully transferred from her heart and mind to canvas.<br />\nOpening reception is April 4\, 5-7pm.</span></span><br />\n&nbsp\;
LOCATION:Blue Ridge Mountains Arts Association (The Art Center) 420 West Main Street Blue Ridge\, GA 30513
UID:e.256.22385
SEQUENCE:3
DTSTAMP:20260424T134228Z
URL:https://members.visitblairsvillega.com/events/details/the-art-of-marsha-hamby-savage-04-26-2014-22385
END:VEVENT

END:VCALENDAR
