BEGIN:VCALENDAR
VERSION:2.0
PRODID:-//ChamberMaster//Event Calendar 2.0//EN
METHOD:PUBLISH
X-PUBLISHED-TTL:P3D
REFRESH-INTERVAL:P3D
CALSCALE:GREGORIAN
BEGIN:VEVENT
DTSTART:20170203T150000Z
DTEND:20170203T230000Z
X-MICROSOFT-CDO-ALLDAYEVENT:FALSE
SUMMARY:The Art of Max Muller
DESCRIPTION:Max Muller is an internationally acclaimed Master Watercolor Artist. His work is visually exciting and emotionally stimulating due to his use of color and light. The transparency and glow of every painting exhibits his mastery of the complex watercolor medium. His work has been featured in numerous art publications\, and many of his original works were commissioned by Epcot Center in Orlando\, FL to purchase and reproduce for their events. Don't miss this wonderful exhibit on display  in  the Richard Low Evans Gallery in the Art Center.
X-ALT-DESC;FMTTYPE=text/html:<span style="font-size:12pt"><span style="font-family:adobe caslon pro bold\,serif"><span style="color:black">Max Muller is an internationally acclaimed Master Watercolor Artist. His work is visually exciting and emotionally stimulating due to his use of color and light. The transparency and glow of every painting exhibits his mastery of the complex watercolor medium. His work has been featured in numerous art publications\, and many of his original works were commissioned by Epcot Center in Orlando\, FL to purchase and reproduce for their events. Don&rsquo\;t miss this wonderful exhibit on display&nbsp\; in&nbsp\; the Richard Low Evans Gallery in the Art Center. </span></span></span>
LOCATION:The Art Center 420 West Main Street Blue Ridge\, GA 30513
UID:e.256.64240
SEQUENCE:3
DTSTAMP:20260420T074157Z
URL:https://members.visitblairsvillega.com/events/details/the-art-of-max-muller-02-03-2017-64240
END:VEVENT

END:VCALENDAR
