BEGIN:VCALENDAR
VERSION:2.0
PRODID:-//ChamberMaster//Event Calendar 2.0//EN
METHOD:PUBLISH
X-PUBLISHED-TTL:P3D
REFRESH-INTERVAL:P3D
CALSCALE:GREGORIAN
BEGIN:VEVENT
DTSTART:20141209T150000Z
DTEND:20141209T230000Z
X-MICROSOFT-CDO-ALLDAYEVENT:FALSE
SUMMARY:The Art of Suzanne Deslauriers
DESCRIPTION:Celebrate the acrylic \, watercolor and pastel creations of Suzy Deslauriers whose passion lies in re-creating the beauty of rocks\, water and mountains.
X-ALT-DESC;FMTTYPE=text/html:Celebrate the acrylic \, watercolor and pastel creations of Suzy Deslauriers whose passion lies in re-creating the beauty of rocks\, water and mountains.
LOCATION:The Art Center (Blue Ridge Mountains Arts Association)
UID:e.256.26073
SEQUENCE:3
DTSTAMP:20260424T020736Z
URL:https://members.visitblairsvillega.com/events/details/the-art-of-suzanne-deslauriers-12-09-2014-26073
END:VEVENT

END:VCALENDAR
