BEGIN:VCALENDAR
VERSION:2.0
PRODID:-//ChamberMaster//Event Calendar 2.0//EN
METHOD:PUBLISH
X-PUBLISHED-TTL:P3D
REFRESH-INTERVAL:P3D
CALSCALE:GREGORIAN
BEGIN:VEVENT
DTSTART:20140426T180000Z
DTEND:20140426T230000Z
X-MICROSOFT-CDO-ALLDAYEVENT:FALSE
SUMMARY:The Bankers Hour
DESCRIPTION:The Bankers Hour\, Celebrating A Generation of Entertainment\, 20th Anniversary. April 26th\, Showtimes 2:00 pm & 7:00 pm\, Tickets $10 each\, Reserve your seats today! Call 706-896-4191\, GeorgiaMountainFairgrounds.com\, Georgia Mountain Fair\, Anderson Music Hall\, Hiawassee\, GA All proceeds donated to charitable organizations. Limited handicapped parking for vehicles displaying license plate or mirror hanger.
X-ALT-DESC;FMTTYPE=text/html:The Bankers Hour\, Celebrating A Generation of Entertainment\, 20th Anniversary. April 26th\, Showtimes 2:00 pm &amp\; 7:00 pm\, Tickets $10 each\, Reserve your seats today! Call 706-896-4191\, GeorgiaMountainFairgrounds.com\, Georgia Mountain Fair\, Anderson Music Hall\, Hiawassee\, GA All proceeds donated to charitable organizations. Limited handicapped parking for vehicles displaying license plate or mirror hanger.
LOCATION:Georgia Mountain Fair\, Anderson Music Hall\, Hiawassee\, GA
UID:e.256.23758
SEQUENCE:3
DTSTAMP:20260424T133550Z
URL:https://members.visitblairsvillega.com/events/details/the-bankers-hour-04-26-2014-23758
END:VEVENT

END:VCALENDAR
