BEGIN:VCALENDAR
VERSION:2.0
PRODID:-//ChamberMaster//Event Calendar 2.0//EN
METHOD:PUBLISH
X-PUBLISHED-TTL:P3D
REFRESH-INTERVAL:P3D
CALSCALE:GREGORIAN
BEGIN:VEVENT
DTSTART:20141031T230000Z
DTEND:20141101T023000Z
X-MICROSOFT-CDO-ALLDAYEVENT:FALSE
SUMMARY:The Beautiful Offerings Tour
DESCRIPTION:The Beautiful Offerings Tour Big Daddy Weave\, Chris August\, Dara MacLean\, Group 1 Crew Truly compelling music makes the personal universal. Few artists have done that more consistently or more movingly than Big Daddy Weave. Through more than a decade of hits like "In Christ\," "Audience of One\," "You're Worthy Of My Praise\," "Every Time I Breathe\," "What Life Would Be Like"\, and "You Found Me\," they have shared the journey in a way that has won the ongoing respect of fans\, press and industry alike. The Beautiful Offerings Tour features Group 1 Crew\, Chris August\, and Dara Maclean.
X-ALT-DESC;FMTTYPE=text/html:The Beautiful Offerings Tour Big Daddy Weave\, Chris August\, Dara MacLean\, Group 1 Crew Truly compelling music makes the personal universal. Few artists have done that more consistently or more movingly than Big Daddy Weave. Through more than a decade of hits like &quot\;In Christ\,&quot\; &quot\;Audience of One\,&quot\; &quot\;You&#39\;re Worthy Of My Praise\,&quot\; &quot\;Every Time I Breathe\,&quot\; &quot\;What Life Would Be Like&quot\;\, and &quot\;You Found Me\,&quot\; they have shared the journey in a way that has won the ongoing respect of fans\, press and industry alike. The Beautiful Offerings Tour features Group 1 Crew\, Chris August\, and Dara Maclean.
LOCATION:Smoky Mountain Center for the Performing Arts 1028 Georgia Road Franklin\, NC 28734\, USA
UID:e.256.27718
SEQUENCE:3
DTSTAMP:20260424T045305Z
URL:https://members.visitblairsvillega.com/events/details/the-beautiful-offerings-tour-10-31-2014-27718
END:VEVENT

END:VCALENDAR
