BEGIN:VCALENDAR
VERSION:2.0
PRODID:-//ChamberMaster//Event Calendar 2.0//EN
METHOD:PUBLISH
X-PUBLISHED-TTL:P3D
REFRESH-INTERVAL:P3D
CALSCALE:GREGORIAN
BEGIN:VEVENT
DTSTART:20150314T130000Z
DTEND:20150314T200000Z
X-MICROSOFT-CDO-ALLDAYEVENT:FALSE
SUMMARY:The Biennial Union County Republican Party Convention
DESCRIPTION:The Biennial Union County Republican Party will be hosting their meeting and electing District Chairpersons.  Other elections will take place for executive committee.
X-ALT-DESC;FMTTYPE=text/html:The Biennial Union County Republican Party will be hosting their meeting and electing District Chairpersons.&nbsp\; Other elections will take place for executive committee.
LOCATION:The Pat Haralson Memorial Civic Center 165 Welborn Street Blairsville\, GA 30512
UID:e.256.37669
SEQUENCE:3
DTSTAMP:20260423T212504Z
URL:https://members.visitblairsvillega.com/events/details/the-biennial-union-county-republican-party-convention-03-14-2015-37669
END:VEVENT

END:VCALENDAR
