BEGIN:VCALENDAR
VERSION:2.0
PRODID:-//ChamberMaster//Event Calendar 2.0//EN
METHOD:PUBLISH
X-PUBLISHED-TTL:P3D
REFRESH-INTERVAL:P3D
CALSCALE:GREGORIAN
BEGIN:VEVENT
DTSTART:20151211T230000Z
DTEND:20151212T030000Z
X-MICROSOFT-CDO-ALLDAYEVENT:FALSE
SUMMARY:The Biggest Little Holiday Party at Brasstown Valley Resort
DESCRIPTION:Come celebrate the holiday season in the festively decorated Brasstown Valley Resort & Spa! 6pm-7pm Cash Bar Opens\, 7pm Holiday Dinner Buffet Opens\, Entertainment by DJ for fun & dancing!
X-ALT-DESC;FMTTYPE=text/html:Come celebrate the holiday season in the festively decorated Brasstown Valley Resort &amp\; Spa! 6pm-7pm Cash Bar Opens\, 7pm Holiday Dinner Buffet Opens\, Entertainment by DJ for fun &amp\; dancing!
LOCATION:Brasstown Valley Resort & Spa
UID:e.256.45157
SEQUENCE:3
DTSTAMP:20260421T074738Z
URL:https://members.visitblairsvillega.com/events/details/the-biggest-little-holiday-party-at-brasstown-valley-resort-12-11-2015-45157
END:VEVENT

END:VCALENDAR
