BEGIN:VCALENDAR
VERSION:2.0
PRODID:-//ChamberMaster//Event Calendar 2.0//EN
METHOD:PUBLISH
X-PUBLISHED-TTL:P3D
REFRESH-INTERVAL:P3D
CALSCALE:GREGORIAN
BEGIN:VEVENT
DTSTART:20140920T180000Z
DTEND:20140920T220000Z
X-MICROSOFT-CDO-ALLDAYEVENT:FALSE
SUMMARY:The Box Tops' Gary Talley
DESCRIPTION:A Musical Event: Featuring the Box Tops' Gary Talley Gary Talley is a celebrated guitarist\, singer\, songwriter\, and author. Gary began his career in the 60s as lead guitarist for the Grammy-nominated group "The Box Tops" who were famous for hits like "The Letter" and "Cry Like a Baby". He continues touring as a solo artist and has recorded with celebrated artists\, including Willie Nelson\, Tammy Wynette\, and Waylon Jennings. As a songwriter\, he has written songs for Keith Whitley\, The Box Tops\, James Cotton\, and T.G. Shepard. Gary has played events with Billy Preston\, Same Moore\, Pam TIllis\, Brenda Lee\, Tim McGraw\, Bobby Bare and many others. In 1999\, Gary created the instructional video "Guitar Playing for Songwriters" and he has instructed students\, including Pam Tillis\, Sherrie Austin\, and Rory Bourke. Moses Cotton\, a Georgia songwriter\, plays regularly on the Nashville writers" circuit. His songs\, including "Junkie Friend" and "Ten Cent redemption"\, are true Americana. He has been featured on television and radio for his unique songwriting ability and outside the box style of music.
X-ALT-DESC;FMTTYPE=text/html:A Musical Event: Featuring the Box Tops&#39\; Gary Talley Gary Talley is a celebrated guitarist\, singer\, songwriter\, and author. Gary began his career in the 60s as lead guitarist for the Grammy-nominated group &quot\;The Box Tops&quot\; who were famous for hits like &quot\;The Letter&quot\; and &quot\;Cry Like a Baby&quot\;. He continues touring as a solo artist and has recorded with celebrated artists\, including Willie Nelson\, Tammy Wynette\, and Waylon Jennings. As a songwriter\, he has written songs for Keith Whitley\, The Box Tops\, James Cotton\, and T.G. Shepard. Gary has played events with Billy Preston\, Same Moore\, Pam TIllis\, Brenda Lee\, Tim McGraw\, Bobby Bare and many others. In 1999\, Gary created the instructional video &quot\;Guitar Playing for Songwriters&quot\; and he has instructed students\, including Pam Tillis\, Sherrie Austin\, and Rory Bourke. Moses Cotton\, a Georgia songwriter\, plays regularly on the Nashville writers&quot\; circuit. His songs\, including &quot\;Junkie Friend&quot\; and &quot\;Ten Cent redemption&quot\;\, are true Americana. He has been featured on television and radio for his unique songwriting ability and outside the box style of music.
LOCATION:Odom Springs Vineyards Blairsville\, Ga
UID:e.256.27273
SEQUENCE:3
DTSTAMP:20260424T062926Z
URL:https://members.visitblairsvillega.com/events/details/the-box-tops-gary-talley-09-20-2014-27273
END:VEVENT

END:VCALENDAR
