BEGIN:VCALENDAR
VERSION:2.0
PRODID:-//ChamberMaster//Event Calendar 2.0//EN
METHOD:PUBLISH
X-PUBLISHED-TTL:P3D
REFRESH-INTERVAL:P3D
CALSCALE:GREGORIAN
BEGIN:VEVENT
DTSTART:20150626T233000Z
DTEND:20150627T035500Z
X-MICROSOFT-CDO-ALLDAYEVENT:FALSE
SUMMARY:The Celts
DESCRIPTION:The Celts have been performing around the world for over 15 years and are made up of Irish born and Irish-American musicians. The band performs a combination of fiery Scottish/Irish traditional instrumental tunes and cocal songs as well as their own pop-influenced original songs with Celtic instrumentation. The Celts have recorded 8 records and have been featured on multiple music compilations through the years. When you see The Celts you will not only be moved by the infectious energy and passion of the group but you will be impressed by the incredible musicianship of each band member. A typical concert involves not only fervent\, inspired music but also periodic bouts of spirited Irish dancing.
X-ALT-DESC;FMTTYPE=text/html:The Celts have been performing around the world for over 15 years and are made up of Irish born and Irish-American musicians. The band performs a combination of fiery Scottish/Irish traditional instrumental tunes and cocal songs as well as their own pop-influenced original songs with Celtic instrumentation. The Celts have recorded 8 records and have been featured on multiple music compilations through the years. When you see The Celts you will not only be moved by the infectious energy and passion of the group but you will be impressed by the incredible musicianship of each band member. A typical concert involves not only fervent\, inspired music but also periodic bouts of spirited Irish dancing.
LOCATION:Smoky Mountain Center for the Performing Arts 1028 Georgia Rd Franklin\, NC 28734
UID:e.256.40306
SEQUENCE:3
DTSTAMP:20260423T164929Z
URL:https://members.visitblairsvillega.com/events/details/the-celts-06-26-2015-40306
END:VEVENT

END:VCALENDAR
