BEGIN:VCALENDAR
VERSION:2.0
PRODID:-//ChamberMaster//Event Calendar 2.0//EN
METHOD:PUBLISH
X-PUBLISHED-TTL:P3D
REFRESH-INTERVAL:P3D
CALSCALE:GREGORIAN
BEGIN:VEVENT
DTSTART;VALUE=DATE:20140821
DTEND;VALUE=DATE:20140822
TRANSP:TRANSPARENT
X-MICROSOFT-CDO-ALLDAYEVENT:TRUE
SUMMARY:The Cemetery Club
DESCRIPTION:Three widows meet once a month for tea before going to visit their husbands' graves\, a touching comedy about life after loss.
X-ALT-DESC;FMTTYPE=text/html:Three widows meet once a month for tea before going to visit their husbands&#39\; graves\,&nbsp\;a touching comedy about life after loss.
LOCATION:Blue Ridge Community Theater 2591 East First Street Blue Ridge\, GA
UID:e.256.26247
SEQUENCE:3
DTSTAMP:20260424T073738Z
URL:https://members.visitblairsvillega.com/events/details/the-cemetery-club-08-21-2014-26247
END:VEVENT

END:VCALENDAR
