BEGIN:VCALENDAR
VERSION:2.0
PRODID:-//ChamberMaster//Event Calendar 2.0//EN
METHOD:PUBLISH
X-PUBLISHED-TTL:P3D
REFRESH-INTERVAL:P3D
CALSCALE:GREGORIAN
BEGIN:VEVENT
DTSTART:20170907T120000Z
DTEND:20170907T140000Z
X-MICROSOFT-CDO-ALLDAYEVENT:FALSE
SUMMARY:CANCELLED - The Chamber's MASTERS Breakfast
DESCRIPTION:Blairsville - Union County Chamber of Commerce\n\nPresents\n\nThe Chamber's MASTERS Breakfast\n\n(Members Achieving Success Through Education & Related Services) formally known as our Membership Orientation breakfast.\n\n\n\nHAS BEEN CANCELLED
X-ALT-DESC;FMTTYPE=text/html:<div style="text-align: center\;"><span style="color: gray\; font-size: 12px\;"><span style="font-family: tahoma\;"><span style="color: rgb(0\, 0\, 0)\;"><em><span style="font-size: 14px\;">Blairsville - Union County Chamber of Commerce</span></em><br />\n<span style="font-size: 16px\;"><span style="font-size: 12px\;">Presents</span></span></span><br />\n<span style="color: rgb(0\, 0\, 255)\;"><span style="font-size: 16px\;"><span style="font-size: 20px\;">The Chamber&#39\;s MASTERS Breakfast</span></span></span></span></span><br />\n<span style="color: rgb(0\, 0\, 0)\;"><strong>(Members Achieving Success Through Education &amp\; Related Services) </strong>formally known as our Membership Orientation breakfast.</span><br />\n<br />\n<strong>HAS BEEN CANCELLED</strong></div>\n
LOCATION:Blairsville-Union County Community Center Ballroom - 2nd Floor
UID:e.256.49438
SEQUENCE:3
DTSTAMP:20260419T192848Z
URL:https://members.visitblairsvillega.com/events/details/the-chamber-s-masters-breakfast-09-01-2016-49438
END:VEVENT

END:VCALENDAR
