BEGIN:VCALENDAR
VERSION:2.0
PRODID:-//ChamberMaster//Event Calendar 2.0//EN
METHOD:PUBLISH
X-PUBLISHED-TTL:P3D
REFRESH-INTERVAL:P3D
CALSCALE:GREGORIAN
BEGIN:VEVENT
DTSTART:20170728T233000Z
DTEND:20170729T013000Z
X-MICROSOFT-CDO-ALLDAYEVENT:FALSE
SUMMARY:The Coasters
DESCRIPTION:Show business has never seen a group quite like The Coasters. They occupy a special niche in the music field. Because of their style and approach\, they are in a class of their own. No wonder The Coasters are labeled "The Clown Princes of Rock N' Roll." The Coasters first hit "Down In Mexico" was released in the spring of 1956 and sold approximately 500\,000 copies. Beginning with that career launch\, they smashed the charts with such hits as "Young Blood\, " "Searchin\," "Yakety Yak" and "Charlie Brown\," "Poison Ivy\," "Love Potion #9\," and "Baby That's Rock N' Roll\," earning several Gold Records. Though the members have changed over the years\, the one thing that remains true is the Coasters and their songs will always be part of classic rock and roll history.
X-ALT-DESC;FMTTYPE=text/html:Show business has never seen a group quite like The Coasters. They occupy a special niche in the music field. Because of their style and approach\, they are in a class of their own. No wonder The Coasters are labeled &quot\;The Clown Princes of Rock N&#39\; Roll.&quot\; The Coasters first hit &quot\;Down In Mexico&quot\; was released in the spring of 1956 and sold approximately 500\,000 copies. Beginning with that career launch\, they smashed the charts with such hits as &quot\;Young Blood\, &quot\; &quot\;Searchin\,&quot\; &quot\;Yakety Yak&quot\; and &quot\;Charlie Brown\,&quot\; &quot\;Poison Ivy\,&quot\; &quot\;Love Potion #9\,&quot\; and &quot\;Baby That&#39\;s Rock N&#39\; Roll\,&quot\; earning several Gold Records. Though the members have changed over the years\, the one thing that remains true is the Coasters and their songs will always be part of classic rock and roll history.
LOCATION:Smoky Mountain Center for the Performing Arts 1028 Georgia Road Franklin\, NC 28734
UID:e.256.75365
SEQUENCE:3
DTSTAMP:20260419T212352Z
URL:https://members.visitblairsvillega.com/events/details/the-coasters-75365
END:VEVENT

END:VCALENDAR
