BEGIN:VCALENDAR
VERSION:2.0
PRODID:-//ChamberMaster//Event Calendar 2.0//EN
METHOD:PUBLISH
X-PUBLISHED-TTL:P3D
REFRESH-INTERVAL:P3D
CALSCALE:GREGORIAN
BEGIN:VEVENT
DTSTART:20150215T000000Z
DTEND:20150215T000000Z
X-MICROSOFT-CDO-ALLDAYEVENT:FALSE
SUMMARY:The Elixir of Love presented by Peach State Opera
DESCRIPTION:Peach State Opera is a touring company that shares the thrill of live opera with small communities in Georgia and its surrounding states by presenting exciting and portable English-language productions.  Fifteen students from the Union County High School Chorus\, under the direction of Alicia Covington\, have been invited to perform alongside this professional opera group in a romantic comedy by Donizetti called The Elixir of Love.  The performance will be held at the Peacock Playhouse in Hayesville\, NC at 7 PM on Saturday\, February 14th.  Tickets are general seating at $20.  You may call the Peacock Playhouse box office  at 828-389-2787 for tickets and more information.
X-ALT-DESC;FMTTYPE=text/html:<span style="font-family: &quot\;Times New Roman&quot\;\,&quot\;serif&quot\;\; font-size: 11pt\; mso-fareast-font-family: Calibri\; mso-fareast-theme-font: minor-latin\; mso-ansi-language: EN-US\; mso-fareast-language: EN-US\; mso-bidi-language: AR-SA\;"><font color="#000000">Peach State Opera is a touring company that shares the thrill of live opera with small communities in Georgia and its surrounding states by presenting exciting and portable English-language productions.&nbsp\; Fifteen students from the Union County High School Chorus\, under the direction of Alicia Covington\, have been invited to perform alongside this professional opera group in a romantic comedy by Donizetti called </font><i><font color="#000000">The Elixir of Love</font></i><font color="#000000">.&nbsp\; The performance will be held at the Peacock Playhouse in Hayesville\, NC at 7 PM on Saturday\, February 14th.&nbsp\; Tickets are general seating at $20.&nbsp\; You may call the Peacock Playhouse box office &#65279\;at 828-389-2787 for tickets and more information.</font></span>
LOCATION:Peacock Playhouse 301 Church Street\, Hayesville\, NC 28904
UID:e.256.36908
SEQUENCE:3
DTSTAMP:20260424T003331Z
URL:https://members.visitblairsvillega.com/events/details/the-elixir-of-love-presented-by-peach-state-opera-02-14-2015-36908
END:VEVENT

END:VCALENDAR
