BEGIN:VCALENDAR
VERSION:2.0
PRODID:-//ChamberMaster//Event Calendar 2.0//EN
METHOD:PUBLISH
X-PUBLISHED-TTL:P3D
REFRESH-INTERVAL:P3D
CALSCALE:GREGORIAN
BEGIN:VEVENT
DTSTART:20170625T170000Z
DTEND:20170625T200000Z
X-MICROSOFT-CDO-ALLDAYEVENT:FALSE
SUMMARY:The Emotional & Energetic Well-Being of Animals
DESCRIPTION:The Emotional & Energetic Well-Being of Animals\n\nThe emotional well-being of animals is an emerging field. How are we connected to our animal companions? Do these connections impact the health of both humans and animals? Can we deepen our connections to the benefit of both?\n\nTammy Billups\, specialist on the relationship between animals and their people\, reveals ground-breaking insights and guidance to help your animals heal from the inside out.\n\nIf you're an animal lover\, you already know animals have feelings and emotions. Their emotional wounds created from their experiences\, if not healed\, will show up as negative behaviors\, like separation anxiety\, and they can even manifest as physical issues. More and more people are ready for a shift in consciousness around animals' emotions  such that they're feeling nudged to look at alternative treatments to help them heal but they just don't know where to start.\n\nSpeaking from the heart and soul of the matter\, Tammy Billups will share progressive truths about your animals' core emotional wounds that will forever change and enhance your relationships with your beloved companions.\n\nThis workshop will not only raise your awareness\, it will enhance your relationship with them by giving you tools to help them heal their emotional wounds\, ways to identify their messages more quickly  and activate a deeper soul connection with them. Then a deeper healing process to having less physical and emotional challenges can commence.\n\nTammy's discoveries will inform\, inspire and astonish all animal lovers.\n\n\n\nPLEASE BRING A PHOTO OF YOUR ANIMALS!
X-ALT-DESC;FMTTYPE=text/html:<span style="color:#2F859E"><span style="font-family:open sans condensed\,serif"><span style="font-size:27.0pt"><span style="font-size:16px\;">The Emotional &amp\; Energetic Well-Being of Animal</span>s</span></span></span><br />\n<strong><span style="font-family:open sans\,serif"><span style="font-size:10pt">The emotional well-being of animals is an emerging field. How are we connected to our animal companions? Do these connections impact the health of both humans and animals? Can we deepen our connections to the benefit of both?</span></span><br />\n<span style="font-family:open sans\,serif"><span style="font-size:10pt">Tammy Billups\, specialist on the relationship between animals and their people\, reveals ground-breaking insights and guidance to help your animals heal from the inside out.</span></span><br />\n<span style="font-family:open sans\,serif"><span style="font-size:10pt">If you&rsquo\;re an animal lover\, you already know animals have feelings and emotions. Their emotional wounds created from their experiences\, if not healed\, will show up as negative behaviors\, like separation anxiety\, and they can even manifest as physical issues. More and more people are ready for a shift in consciousness around animals&rsquo\; emotions&hellip\; such that they&rsquo\;re feeling nudged to look at alternative treatments to help them heal&hellip\;but they just don&rsquo\;t know where to start.</span></span><br />\n<span style="font-family:open sans\,serif"><span style="font-size:10pt">Speaking from the heart and soul of the matter\, Tammy Billups will share progressive truths about your animals&rsquo\; core emotional wounds that will forever change and enhance your relationships with your beloved companions.</span></span><br />\n<span style="font-family:open sans\,serif"><span style="font-size:10pt">This workshop will not only raise your awareness\, it will enhance your relationship with them by giving you tools to help them heal their emotional wounds\, ways to identify their messages more quickly&hellip\; and activate a deeper soul connection with them. Then a deeper healing process to having less physical and emotional challenges can commence.</span></span><br />\n<span style="font-family:open sans\,serif"><span style="font-size:10pt">Tammy&rsquo\;s discoveries will inform\, inspire and astonish all animal lovers.</span></span><br />\n<br />\n<span style="color:#FF0000">PLEASE BRING A PHOTO OF YOUR ANIMALS!</span></strong>
LOCATION:Inner Awakenings 1650 Tate Road Blairsville\, GA 30512 (706) 374- 0528
UID:e.256.72979
SEQUENCE:3
DTSTAMP:20260420T010554Z
URL:https://members.visitblairsvillega.com/events/details/the-emotional-energetic-well-being-of-animals-72979
END:VEVENT

END:VCALENDAR
