BEGIN:VCALENDAR
VERSION:2.0
PRODID:-//ChamberMaster//Event Calendar 2.0//EN
METHOD:PUBLISH
X-PUBLISHED-TTL:P3D
REFRESH-INTERVAL:P3D
CALSCALE:GREGORIAN
BEGIN:VEVENT
DTSTART:20140914T180000Z
DTEND:20140914T180000Z
X-MICROSOFT-CDO-ALLDAYEVENT:FALSE
SUMMARY:The Franklin Pond Quartet
DESCRIPTION:The Franklin Pond Quartet\, featuring members of the Atlanta Symphony Orchestra\, will present an afternoon of popular classical music at the Blue Ridge Community Theater on Sunday\, September 14th at 2 PM. This special event is brought to the North Georgia Mountains as a part of the theater's Live Music Is Better Concert Series.
X-ALT-DESC;FMTTYPE=text/html:The Franklin Pond Quartet\, featuring members of the Atlanta Symphony Orchestra\, will present an afternoon of popular classical music at the Blue Ridge Community Theater on Sunday\, September 14th at 2 PM. This special event is brought to the North Georgia Mountains as a part of the theater&#39\;s Live Music Is Better Concert Series.
LOCATION:Blue Ridge Community Theater Blue Ridge\, GA
UID:e.256.27304
SEQUENCE:3
DTSTAMP:20260424T062926Z
URL:https://members.visitblairsvillega.com/events/details/the-franklin-pond-quartet-09-14-2014-27304
END:VEVENT

END:VCALENDAR
