BEGIN:VCALENDAR
VERSION:2.0
PRODID:-//ChamberMaster//Event Calendar 2.0//EN
METHOD:PUBLISH
X-PUBLISHED-TTL:P3D
REFRESH-INTERVAL:P3D
CALSCALE:GREGORIAN
BEGIN:VEVENT
DTSTART:20160521T130000Z
DTEND:20160521T160000Z
X-MICROSOFT-CDO-ALLDAYEVENT:FALSE
SUMMARY:The Georgia Mountain Metric Century
DESCRIPTION:Spring the gaps on an awesome 23 mile tune up ride to be ready for the Six Gap in the fall.\n\n \n\nThe Georgia Mountain Metric Century ride will roll through the countryside of Union County\, Ga over the "big 3 gaps" - Hog Pen\, Unicoi & Jacks gap\, in reverse!\n\n \n\nGeorgia Mountain Metric Century Bike Ride\n\nSaturday\, May 21\, 2016\n\nUnion County\, Georgia\n\n \n\nThis ride is such a great opportunity to boost our local tourism and economy. It was reported that the Six Gap Century Bike Ride brought Dahlonega 2\,426 cyclists from 30 states and 4 countries for a $1.35 million economic impact in 2013. This ride will be marketed throughout the Southeast by Epic Sports Marketing\, Active.com\, and Georgia Bikes.\n\n \n\nSponsors are needed! There are four different sponsorship levels available to choose from. We have our first four sponsors\, but we still need your help!  We are seeking monetary donations\, along with food\, drinks\, goody bags for the riders\, and more. The proceeds from the race will come back to Union County to help create bike trails in our area.
X-ALT-DESC;FMTTYPE=text/html:<p style="margin: 0in 0in 0pt\;"><span style="font-family: arial\;"><span style="font-size: 12px\;"><strong><span style="color: rgb(66\, 51\, 51)\;">Spring the gaps on an awesome 23 mile tune up ride to be ready for the Six Gap in the fall.</span></strong><br />\n&nbsp\;<br />\n<span style="color: rgb(66\, 51\, 51)\;">The Georgia Mountain Metric Century ride will roll through the countryside of Union County\, Ga over the &quot\;big 3 gaps&quot\; - Hog Pen\, Unicoi &amp\; Jacks gap\, in reverse!</span><br />\n&nbsp\;<br />\n<strong><span style="color: rgb(66\, 51\, 51)\;">Georgia Mountain Metric Century Bike Ride</span></strong><br />\n<strong><span style="color: rgb(66\, 51\, 51)\;">Saturday\, May 21\, 2016</span></strong><br />\n<strong><span style="color: rgb(66\, 51\, 51)\;">Union County\, Georgia</span></strong><br />\n&nbsp\;<br />\n<span style="color: rgb(66\, 51\, 51)\;">This ride is such a great opportunity to boost our local tourism and economy. It was reported that the Six Gap Century Bike Ride brought Dahlonega 2\,426 cyclists from 30 states and 4 countries for a $1.35 million economic impact in 2013. This ride will be marketed throughout the Southeast by Epic Sports Marketing\, Active.com\, and Georgia Bikes.</span><br />\n&nbsp\;<br />\n<strong><span style="color: rgb(66\, 51\, 51)\;">Sponsors are needed!</span></strong><span style="color: rgb(66\, 51\, 51)\;"> There are four different sponsorship levels available to choose from. We have our first four sponsors\, but we still need your help!&nbsp\; We are seeking monetary donations\, along with food\, drinks\, goody bags for the riders\, and more. The proceeds from the race will come back to Union County to help create bike trails in our area. </span><br />\n&nbsp\;</span></span></p>\n
LOCATION:Pat Harralson Civic Center
UID:e.256.27671
SEQUENCE:3
DTSTAMP:20260420T223121Z
URL:https://members.visitblairsvillega.com/events/details/the-georgia-mountain-metric-century-05-21-2016-27671
END:VEVENT

END:VCALENDAR
