BEGIN:VCALENDAR
VERSION:2.0
PRODID:-//ChamberMaster//Event Calendar 2.0//EN
METHOD:PUBLISH
X-PUBLISHED-TTL:P3D
REFRESH-INTERVAL:P3D
CALSCALE:GREGORIAN
BEGIN:VEVENT
DTSTART:20170821T000000Z
DTEND:20170821T000000Z
X-MICROSOFT-CDO-ALLDAYEVENT:FALSE
SUMMARY:The Great Eclipse Weekend At Walnut Hollow Ranch
DESCRIPTION:Excite Your Senses  Come Visit Western North Carolina's Premier Cattle Ranch. Join us for 'The Great American Eclipse' in Hayesville NC. Walnut Hollow RV Campground in Hayesville NC will offer great vistas for the eclipse.  \n\nRV camping\, tent camping and The Loft lodging for your weekend stay.  The area offers many sightseeing opportunities.  \n\n Walnut Hollow Ranch will be in the direct path of the eclipse\, one of the few places in the center path where viewers will see a total solar eclipse! \n\n The Partial phase will start at 1:05:53pm and the totality of the eclipse will begin at 2:34:41pm and last for 2 minutes and 33 seconds.\n\nChoose Your Weekend Package:  RV - Loft   Tent\n\nEclipse Package Includes:\n\nAug. 18 - Arrival\n\nAug. 19 - Farm Tour 10am\n\n                        Premium Black Angus Burger Cookout with Musician Tom Edwards 5-8pm\n\nAug. 20 - Sightsee Local Attractions & Cookout Rain Date\n\n                        Check Out Our "Things To Do Page"\n\nAug. 21 - The Great Eclipse Pulled Pork Luncheon 12pm\n\n                        "Includes Complimentary Eclipse Shades"
X-ALT-DESC;FMTTYPE=text/html:<span style="font-family: calibri\,sans-serif\;"><span style="font-size: 11pt\;">Excite Your Senses&hellip\; Come Visit Western North Carolina&rsquo\;s Premier Cattle Ranch.&nbsp\;</span></span><span style="font-family: calibri\,sans-serif\;"><span style="font-size: 11pt\;">Join us for&nbsp\;&lsquo\;The Great American Eclipse&rsquo\;&nbsp\;in Hayesville NC. </span></span><span style="letter-spacing: -0.2pt\;"><span style="font-family: calibri\,sans-serif\;"><span style="font-size: 11pt\;">Walnut Hollow RV Campground in Hayesville NC will offer great vistas for the eclipse. &nbsp\;</span></span></span><br />\n<span style="letter-spacing: -0.2pt\;"><span style="font-family: calibri\,sans-serif\;"><span style="font-size: 11pt\;">RV camping\, tent camping and The Loft lodging for your weekend stay. &nbsp\;The area offers many sightseeing opportunities. &nbsp\;</span></span></span><br />\n&nbsp\;<span style="padding: 0in\; border: 1pt windowtext\; border-image: none\; letter-spacing: -0.2pt\;"><span style="font-family: calibri\,sans-serif\;"><span style="font-size: 11pt\;">Walnut Hollow Ranch</span></span></span><span style="padding: 0in\; border: 1pt windowtext\; border-image: none\;"><span style="font-family: calibri\,sans-serif\;"><span style="font-size: 11pt\;">&nbsp\;will be in the direct path of the eclipse\, one of the few places in the center path where viewers will see a&nbsp\;total solar eclipse!&nbsp\;</span></span></span><br />\n&nbsp\;<span style="font-family: calibri\, sans-serif\; font-size: 11pt\;">The Partial phase will start at 1:05:</span>53pm<span style="font-family: calibri\, sans-serif\; font-size: 11pt\;"> and the totality of the eclipse will begin at 2:34:</span>41pm<span style="font-family: calibri\, sans-serif\; font-size: 11pt\;"> and last for 2&nbsp\;minutes and 33 seconds.</span><br />\n<span style="font-family: calibri\,sans-serif\;"><span style="font-size: 11pt\;">Choose Your Weekend Package: &nbsp\;RV - Loft &ndash\; Tent</span></span><br />\n<span style="font-family: calibri\,sans-serif\;"><span style="font-size: 11pt\;">Eclipse Package Includes:</span></span><br />\n<span style="font-family: calibri\,sans-serif\;"><span style="font-size: 11pt\;">Aug. 18 - Arrival</span></span><br />\n<span style="font-family: calibri\,sans-serif\;"><span style="font-size: 11pt\;">Aug. 19 - Farm Tour 10am</span></span><br />\n&nbsp\;&nbsp\;&nbsp\;&nbsp\;&nbsp\;&nbsp\;&nbsp\;&nbsp\;&nbsp\;&nbsp\;&nbsp\;&nbsp\;&nbsp\;&nbsp\;&nbsp\;&nbsp\;&nbsp\;&nbsp\;&nbsp\;&nbsp\;&nbsp\;&nbsp\;&nbsp\; <span style="font-family: calibri\,sans-serif\;"><span style="font-size: 11pt\;">Premium Black Angus Burger Cookout with Musician Tom Edwards 5-8pm</span></span><br />\n<span style="font-family: calibri\,sans-serif\;"><span style="font-size: 11pt\;">Aug. 20 - Sightsee Local Attractions &amp\; Cookout Rain Date</span></span><br />\n&nbsp\;&nbsp\;&nbsp\;&nbsp\;&nbsp\;&nbsp\;&nbsp\;&nbsp\;&nbsp\;&nbsp\;&nbsp\;&nbsp\;&nbsp\;&nbsp\;&nbsp\;&nbsp\;&nbsp\;&nbsp\;&nbsp\;&nbsp\;&nbsp\;&nbsp\;&nbsp\; <span style="font-family: calibri\,sans-serif\;"><span style="font-size: 11pt\;">Check Out Our &quot\;Things To Do Page&quot\;</span></span><br />\n<span style="font-family: calibri\,sans-serif\;"><span style="font-size: 11pt\;">Aug. 21 - The Great Eclipse Pulled Pork Luncheon 12pm</span></span><br />\n&nbsp\;&nbsp\;&nbsp\;&nbsp\;&nbsp\;&nbsp\;&nbsp\;&nbsp\;&nbsp\;&nbsp\;&nbsp\;&nbsp\;&nbsp\;&nbsp\;&nbsp\;&nbsp\;&nbsp\;&nbsp\;&nbsp\;&nbsp\;&nbsp\;&nbsp\;&nbsp\; <span style="font-family: calibri\,sans-serif\;"><span style="font-size: 11pt\;">&quot\;Includes Complimentary Eclipse Shades&quot\;</span></span>
LOCATION:WALNUT HOLLOW RANCH Charlie Kissling 1100 Carter Cove Road Hayesville\, NC 28904 828-389-8931
UID:e.256.71776
SEQUENCE:3
DTSTAMP:20260419T210328Z
URL:https://members.visitblairsvillega.com/events/details/the-great-eclipse-weekend-at-walnut-hollow-ranch-08-20-2017-71776
END:VEVENT

END:VCALENDAR
