BEGIN:VCALENDAR
VERSION:2.0
PRODID:-//ChamberMaster//Event Calendar 2.0//EN
METHOD:PUBLISH
X-PUBLISHED-TTL:P3D
REFRESH-INTERVAL:P3D
CALSCALE:GREGORIAN
BEGIN:VEVENT
DTSTART:20170822T000000Z
DTEND:20170822T000000Z
X-MICROSOFT-CDO-ALLDAYEVENT:FALSE
SUMMARY:The Great Eclipse Weekend At Walnut Hollow Ranch
DESCRIPTION:THE GREAT ECLIPSE WEEKEND AT WALNUT HOLLOW RANCH\n\nAugust 18-21\, 2017\n\n\n\nExcite Your Senses  Come Visit Western North Carolina's Premier Cattle Ranch \n\n\n\nJoin us for 'The Great American Eclipse' in Hayesville NC.\n\nWalnut Hollow RV Campground in Hayesville NC will offer great vistas for the eclipse. \n\n\n\nRV and tent camping for your farm stay. The area offers many sightseeing opportunities. Only limited sites and services are available\, call for more information.\n\n\n\nWalnut Hollow Ranch will be in the direct path of the eclipse\, one of the few places in the center path where viewers will see a total solar eclipse!\n\n\n\nThe Partial phase will start at 1:05:53pm and the totality of the eclipse will begin at 2:34:41pm and last for 2 minutes and 33 seconds.\n\n\n\nChoose Your Weekend Package: RV   Tent\n\n\n\nEclipse Package Includes:\n\nAug. 18 - Arrival\n\nAug. 19 - Farm Tour 10am\n\nPremium Black Angus Burger Cookout with Musician Tom Edwards 5-8pm\n\nAug. 20 - Sightsee Local Attractions & Cookout Rain Date\n\nCheck Out Our "Things To Do Page"\n\nAug. 21 - The Great Eclipse Pulled Pork Luncheon 12pm\n\n"Includes Complimentary Eclipse Shades"\n\n\n\nRV Dry Campers $179.00 Per Couple\n\nTent Campers $149.00 Per Couple\n\n$49. Extra Per Person\n\nPrices + Taxes\n\n\n\nDaily Visitors\n\nAug. 19 - 10am Farm Tour $30 Per Car\n\nAug. 20 - 5pm Cookout $24 Per Person (rain date Aug 21)\n\nAug. 21 - 12pm Eclipse Lunch $16 Per Person\n\nEclipse Shades Available\n\nPrices + Taxes
X-ALT-DESC;FMTTYPE=text/html:<span style="letter-spacing:-0.2pt\;background-image:initial\;background-position:initial\;background-size:initial\;background-repeat:initial\;background-attachment:initial\;background-origin:initial\;background-clip:initial\;"><span style="color:#4b4f56\;"><span style="font-family:arial\,sans-serif\;"><span style="font-size:11pt\;">THE GREAT ECLIPSE WEEKEND AT WALNUT HOLLOW RANCH</span></span></span></span><br />\n<span style="letter-spacing:-.2pt\;"><span style="color:#4B4F56\;"><span style="font-family:arial\,sans-serif\;"><span style="font-size:11.0pt\;"><span style="background-image:initial\;background-position:initial\;background-size:initial\;background-repeat:initial\;background-attachment:initial\;background-origin:initial\;background-clip:initial\;">August 18-21\, 2017</span><br />\n<br />\n<span style="background-image:initial\;background-position:initial\;background-size:initial\;background-repeat:initial\;background-attachment:initial\;background-origin:initial\;background-clip:initial\;">Excite Your Senses&hellip\; Come Visit Western North Carolina&rsquo\;s Premier Cattle Ranch&nbsp\;</span><br />\n<br />\n<span style="background-image:initial\;background-position:initial\;background-size:initial\;background-repeat:initial\;background-attachment:initial\;background-origin:initial\;background-clip:initial\;">Join us for &lsquo\;The Great American Eclipse&rsquo\; in Hayesville NC.</span><br />\n<span style="background-image:initial\;background-position:initial\;background-size:initial\;background-repeat:initial\;background-attachment:initial\;background-origin:initial\;background-clip:initial\;">Walnut Hollow RV Campground in Hayesville NC will offer great vistas for the eclipse.&nbsp\;</span><br />\n<br />\n<span style="background-image:initial\;background-position:initial\;background-size:initial\;background-repeat:initial\;background-attachment:initial\;background-origin:initial\;background-clip:initial\;">RV and tent camping for your farm stay. The area offers many sightseeing opportunities. Only limited sites and services are available\, call for more information.</span><br />\n<br />\n<span style="background-image:initial\;background-position:initial\;background-size:initial\;background-repeat:initial\;background-attachment:initial\;background-origin:initial\;background-clip:initial\;">Walnut Hollow Ranch will be in the direct path of the eclipse\, one of the few places in the center path where viewers will see a total solar eclipse!</span><br />\n<br />\nThe Partial phase will start at 1:05:53pm and the totality of the eclipse will begin at 2:34:41pm and last for 2 minutes and 33 seconds.</span><br />\n<br />\nChoose Your Weekend Package: RV &ndash\; Tent</span><br />\n<br />\nEclipse Package Includes:</span><br />\nAug. 18 - Arrival</span><br />\nAug. 19 - Farm Tour 10am<br />\nPremium Black Angus Burger Cookout with Musician Tom Edwards 5-8pm<br />\nAug. 20 - Sightsee Local Attractions &amp\; Cookout Rain Date<br />\nCheck Out Our &quot\;Things To Do Page&quot\;<br />\nAug. 21 - The Great Eclipse Pulled Pork Luncheon 12pm<br />\n&quot\;Includes Complimentary Eclipse Shades&quot\;<br />\n<br />\nRV Dry Campers $179.00 Per Couple<br />\nTent Campers $149.00 Per Couple<br />\n$49. Extra Per Person<br />\nPrices + Taxes<br />\n<br />\nDaily Visitors<br />\nAug. 19 - 10am Farm Tour $30 Per Car<br />\nAug. 20 - 5pm Cookout $24 Per Person (rain date Aug 21)<br />\nAug. 21 - 12pm Eclipse Lunch $16 Per Person<br />\nEclipse Shades Available<br />\nPrices + Taxes<br />\n&nbsp\;
LOCATION:WALNUT HOLLOW RANCH Charlie Kissling 1100 Carter Cove Road Hayesville\, NC 28904 828-389-8931
UID:e.256.71777
SEQUENCE:3
DTSTAMP:20260419T194609Z
URL:https://members.visitblairsvillega.com/events/details/the-great-eclipse-weekend-at-walnut-hollow-ranch-08-21-2017-71777
END:VEVENT

END:VCALENDAR
