BEGIN:VCALENDAR
VERSION:2.0
PRODID:-//ChamberMaster//Event Calendar 2.0//EN
METHOD:PUBLISH
X-PUBLISHED-TTL:P3D
REFRESH-INTERVAL:P3D
CALSCALE:GREGORIAN
BEGIN:VEVENT
DTSTART:20150824T190000Z
DTEND:20150824T210000Z
X-MICROSOFT-CDO-ALLDAYEVENT:FALSE
SUMMARY:The Grief Recovery Method® Outreach Program
DESCRIPTION:The Action Program for Healing and Embracing a Forever Changed Life\n\n \n\nPeople say you have to let go and move on in your life\, but they don't tell you what you need to do to accomplish that. This Grief Recovery Program not only makes that possible\, but provides the guidance to ensure that it can happen.\n\n \n\nA Regency Hospice Certified Grief Recovery Specialist  will facilitate this six-session multi-denominational program in two locations beginning in July 2015. \n\n \n\nSpace is limited so register for your desired location early
X-ALT-DESC;FMTTYPE=text/html:<span style="font-size:12px\;"><strong><em><span style="font-family: lucida sans\,sans-serif\;">The Action Program for Healing and Embracing a Forever Changed Life</span></em></strong><br />\n&nbsp\;<br />\n<span style="font-family: lucida sans\,sans-serif\;">People say you have to let go and move on in your life\, but they don&rsquo\;t tell you what you need to do to accomplish that. This Grief Recovery Program not only makes that possible\, but provides the guidance to ensure that it can happen.</span><br />\n&nbsp\;<br />\n<span style="font-family: lucida sans\,sans-serif\;">A Regency Hospice Certified Grief Recovery Specialist<span style="text-transform: uppercase\;">&reg\;</span> will facilitate this six-session multi-denominational program in two locations beginning in July 2015. </span><br />\n&nbsp\;<br />\n<strong><em><span style="font-family: lucida sans\,sans-serif\;">Space is limited so register for your desired location early</span></em></strong></span>
LOCATION:Sharp Memorial United Methodist Church (on the Young Harris College Campus)
UID:e.256.40338
SEQUENCE:3
DTSTAMP:20260423T133805Z
URL:https://members.visitblairsvillega.com/events/details/the-grief-recovery-method-outreach-program-08-24-2015-40338
END:VEVENT

END:VCALENDAR
