BEGIN:VCALENDAR
VERSION:2.0
PRODID:-//ChamberMaster//Event Calendar 2.0//EN
METHOD:PUBLISH
X-PUBLISHED-TTL:P3D
REFRESH-INTERVAL:P3D
CALSCALE:GREGORIAN
BEGIN:VEVENT
DTSTART:20141030T190000Z
DTEND:20141030T210000Z
X-MICROSOFT-CDO-ALLDAYEVENT:FALSE
SUMMARY:The Grief Recovery Method Outreach Program
DESCRIPTION:Regency Hospice Invites You to Attend The Grief Recovery Method Outreach Program\n\nThis 6-Session Non-Denominational Program is sponsored by Regency Hospice and Hosted by Union General Hospital\n\nEach Thursday\, October 16 - November 20\, 2014\n\n3:00pm - 5:00pm\n\nUnion General Hospital 2nd Floor Classroom\n\n35 Hospital Road\n\nBlairsville\n\n\n\nTo reserve a space\, or for additional information\, contact:\n\nJill Eckenrode\, Bereavement Coordinator\, Regency Hospice 706-896-1251
X-ALT-DESC;FMTTYPE=text/html:Regency Hospice Invites You to Attend The Grief Recovery Method Outreach Program<br />\nThis 6-Session Non-Denominational Program is sponsored by Regency Hospice and Hosted by Union General Hospital<br />\nEach Thursday\, October 16 - November 20\, 2014<br />\n3:00pm - 5:00pm<br />\nUnion General Hospital 2nd Floor Classroom<br />\n35 Hospital Road<br />\nBlairsville<br />\n<br />\nTo reserve a space\, or for additional information\, contact:<br />\nJill Eckenrode\, Bereavement Coordinator\, Regency Hospice 706-896-1251
LOCATION:Union General Hospital 2nd Floor Classroom 35 Hospital Road Blairsville\, GA
UID:e.256.27571
SEQUENCE:3
DTSTAMP:20260424T045040Z
URL:https://members.visitblairsvillega.com/events/details/the-grief-recovery-method-outreach-program-10-30-2014-27571
END:VEVENT

END:VCALENDAR
