BEGIN:VCALENDAR
VERSION:2.0
PRODID:-//ChamberMaster//Event Calendar 2.0//EN
METHOD:PUBLISH
X-PUBLISHED-TTL:P3D
REFRESH-INTERVAL:P3D
CALSCALE:GREGORIAN
BEGIN:VEVENT
DTSTART:20140507T160000Z
DTEND:20140507T160000Z
X-MICROSOFT-CDO-ALLDAYEVENT:FALSE
SUMMARY:The Hamilton Rhododendron Gardens at the Georgia Mountain Fairgrounds
DESCRIPTION:The Rhododendron Festival is coming back to the Hamilton Gardens! The gardens open 9 AM until 3 PM daily with a minimal entrance fee of $3 during the blooming season and guided walking tours and shuttle tours are also available by appointment for a slightly higher fee. Each Weekend as an added bonus visitors can visit specially selected vendors at the following times: Friday's & Saturdays\, 10 AM to 5 PM Sundays 12 to 5 PM Crafters Village - will be offering a variety of handcrafted garden arts & crafts in our upper parking level. Shop their Greenhouse\, listen to live performances\, enter daily raffles for garden goodies or attend one of the scheduled Special Speaker events. Come enjoy our beautiful gardens this year! Contact us at 706-896-4191 for more information.
X-ALT-DESC;FMTTYPE=text/html:The Rhododendron Festival is coming back to the Hamilton Gardens! The gardens open 9 AM until 3 PM daily with a minimal entrance fee of $3 during the blooming season and guided walking tours and shuttle tours are also available by appointment for a slightly higher fee. Each Weekend as an added bonus visitors can visit specially selected vendors at the following times: Friday&#39\;s &amp\; Saturdays\, 10 AM to 5 PM Sundays 12 to 5 PM Crafters Village - will be offering a variety of handcrafted garden arts &amp\; crafts in our upper parking level. Shop their Greenhouse\, listen to live performances\, enter daily raffles for garden goodies or attend one of the scheduled Special Speaker events. Come enjoy our beautiful gardens this year! Contact us at 706-896-4191 for more information.
LOCATION:Rhododendron Hamilton Gardens\,located at The Georgia Mountain Fairgrounds Hiawassee\, GA
UID:e.256.23549
SEQUENCE:3
DTSTAMP:20260424T122735Z
URL:https://members.visitblairsvillega.com/events/details/the-hamilton-rhododendron-gardens-at-the-georgia-mountain-fairgrounds-05-07-2014-23549
END:VEVENT

END:VCALENDAR
