BEGIN:VCALENDAR
VERSION:2.0
PRODID:-//ChamberMaster//Event Calendar 2.0//EN
METHOD:PUBLISH
X-PUBLISHED-TTL:P3D
REFRESH-INTERVAL:P3D
CALSCALE:GREGORIAN
BEGIN:VEVENT
DTSTART:20150918T233000Z
DTEND:20150919T035500Z
X-MICROSOFT-CDO-ALLDAYEVENT:FALSE
SUMMARY:The Isaacs
DESCRIPTION:The Isaacs\, a multi-award winning family group\, features mother Lily Isaacs\, and siblings Ben Isaacs\, Sonya Isaacs Yeary and Rebecca Isaacs Bowman. Playing their own acoustic instruments and joined by other band members\, The Isaacs have a unique style that blends tight\, family harmony with contemporary acoustic instrumentation that appeals to a variety of audiences. Their musical style has been influenced by many genres of music including bluegrass\, rhythm and blues\, folk\, and country\, contemporary\, acoustic and southern gospel. They perform frequently at the Grand Ole Opry\, are active members on the Gaither Homecoming Videos. Throughout the year\, they often perform to welcoming fans in countries such as South Africa\, Norway\, Holland\, Scotland\, Ireland\, Israel\, Canada and many more. The Isaacs have won over 7 Doves in various categories and have had several Grammy nominations in their career. They feel blessed to be able to spread the message of grace through song and story.
X-ALT-DESC;FMTTYPE=text/html:The Isaacs\, a multi-award winning family group\, features mother Lily Isaacs\, and siblings Ben Isaacs\, Sonya Isaacs Yeary and Rebecca Isaacs Bowman. Playing their own acoustic instruments and joined by other band members\, The Isaacs have a unique style that blends tight\, family harmony with contemporary acoustic instrumentation that appeals to a variety of audiences. Their musical style has been influenced by many genres of music including bluegrass\, rhythm and blues\, folk\, and country\, contemporary\, acoustic and southern gospel. They perform frequently at the Grand Ole Opry\, are active members on the Gaither Homecoming Videos. Throughout the year\, they often perform to welcoming fans in countries such as South Africa\, Norway\, Holland\, Scotland\, Ireland\, Israel\, Canada and many more. The Isaacs have won over 7 Doves in various categories and have had several Grammy nominations in their career. They feel blessed to be able to spread the message of grace through song and story.
LOCATION:Smoky Mountain Center for the Performing Arts 1028 Georgia Rd Franklin\, NC 28734
UID:e.256.41328
SEQUENCE:3
DTSTAMP:20260423T121549Z
URL:https://members.visitblairsvillega.com/events/details/the-isaacs-09-18-2015-41328
END:VEVENT

END:VCALENDAR
