BEGIN:VCALENDAR
VERSION:2.0
PRODID:-//ChamberMaster//Event Calendar 2.0//EN
METHOD:PUBLISH
X-PUBLISHED-TTL:P3D
REFRESH-INTERVAL:P3D
CALSCALE:GREGORIAN
BEGIN:VEVENT
DTSTART:20170122T003000Z
DTEND:20170122T023000Z
X-MICROSOFT-CDO-ALLDAYEVENT:FALSE
SUMMARY:The Lettermen at Smokey Mtn Center of Performing Arts
DESCRIPTION:To kick off our 2017 season\, enjoy the harmonies and sounds of The Lettermen. With 18 Gold Albums and scores of top singles\, including their first hit "The Way You Look Tonight\," The Lettermen's popularity has endured the test of time celebrating over 100\,000 sold-out performances. Look forward to many of their hits\, including "Put Your Head On My Shoulder" and "I Only Have Eyes for You" as well as many more favorites. The Lettermen have been creating musical memories for 50 years and are a sure way to begin your new year on a high note. Ticket Prices: $25\, $28
X-ALT-DESC;FMTTYPE=text/html:To kick off our 2017 season\, enjoy the harmonies and sounds of The Lettermen. With 18 Gold Albums and scores of top singles\, including their first hit &quot\;The Way You Look Tonight\,&quot\; The Lettermen&#39\;s popularity has endured the test of time celebrating over 100\,000 sold-out performances. Look forward to many of their hits\, including &quot\;Put Your Head On My Shoulder&quot\; and &quot\;I Only Have Eyes for You&quot\; as well as many more favorites. The Lettermen have been creating musical memories for 50 years and are a sure way to begin your new year on a high note. Ticket Prices: $25\, $28
LOCATION:Smoky Mountain Center for the Performing Arts 1028 Georgia Road Franklin\, NC 28734
UID:e.256.59737
SEQUENCE:3
DTSTAMP:20260420T080013Z
URL:https://members.visitblairsvillega.com/events/details/the-lettermen-at-smokey-mtn-center-of-performing-arts-59737
END:VEVENT

END:VCALENDAR
