BEGIN:VCALENDAR
VERSION:2.0
PRODID:-//ChamberMaster//Event Calendar 2.0//EN
METHOD:PUBLISH
X-PUBLISHED-TTL:P3D
REFRESH-INTERVAL:P3D
CALSCALE:GREGORIAN
BEGIN:VEVENT
DTSTART:20140920T133000Z
DTEND:20140920T200000Z
X-MICROSOFT-CDO-ALLDAYEVENT:FALSE
SUMMARY:The Line Dance Seminar for Active Adults
DESCRIPTION:Dancing For The Dream\, Inc\n\nThe Line Dance Seminar for Active Adults\n\nJoin us September 20th\, 2014 in Blairsville\, GA at the\n\nFirst United Methodist Church 938 Hwy 515 \, Blairsville\, GA\n\nCall 706-745-2073 for more information\n\nMs. Scooter Lee\, International Recording Dance Artist is your host for the day. Join us for a day of fun easy to do and easy to remember line dances.\n\nInstruction - Dancing & Prizes
X-ALT-DESC;FMTTYPE=text/html:Dancing For The Dream\, Inc<br />\nThe Line Dance Seminar for Active Adults<br />\nJoin us September 20th\, 2014 in Blairsville\, GA at the<br />\nFirst United Methodist Church 938 Hwy 515 \, Blairsville\, GA<br />\nCall 706-745-2073 for more information<br />\nMs. Scooter Lee\, International Recording Dance Artist is your host for the day. Join us for a day of fun easy to do and easy to remember line dances.<br />\nInstruction - Dancing &amp\; Prizes
LOCATION:First United Methodist Church 938 Hwy 515 Blairsville\, GA
UID:e.256.26205
SEQUENCE:3
DTSTAMP:20260424T062221Z
URL:https://members.visitblairsvillega.com/events/details/the-line-dance-seminar-for-active-adults-09-20-2014-26205
END:VEVENT

END:VCALENDAR
