BEGIN:VCALENDAR
VERSION:2.0
PRODID:-//ChamberMaster//Event Calendar 2.0//EN
METHOD:PUBLISH
X-PUBLISHED-TTL:P3D
REFRESH-INTERVAL:P3D
CALSCALE:GREGORIAN
BEGIN:VEVENT
DTSTART:20141212T010000Z
DTEND:20141212T023000Z
X-MICROSOFT-CDO-ALLDAYEVENT:FALSE
SUMMARY:"The Littlest Angels"
DESCRIPTION:"The Littlest Angels"\nDirected by Nancy Davis\n\nAn eve of Classic Music with an Angelic Tale\nThe show opens December 11-14
X-ALT-DESC;FMTTYPE=text/html:<br />\n&quot\;The Littlest Angels&quot\;\n<p>Directed by Nancy Davis</p>\n\n<p>An eve of Classic Music with an Angelic Tale</p>\nThe show opens December 11-14
LOCATION:Licklog Players Theater Hayesville\, NC
UID:e.256.27721
SEQUENCE:3
DTSTAMP:20260424T020208Z
URL:https://members.visitblairsvillega.com/events/details/the-littlest-angels-12-11-2014-27721
END:VEVENT

END:VCALENDAR
