BEGIN:VCALENDAR
VERSION:2.0
PRODID:-//ChamberMaster//Event Calendar 2.0//EN
METHOD:PUBLISH
X-PUBLISHED-TTL:P3D
REFRESH-INTERVAL:P3D
CALSCALE:GREGORIAN
BEGIN:VEVENT
DTSTART:20141207T003000Z
DTEND:20141207T020000Z
X-MICROSOFT-CDO-ALLDAYEVENT:FALSE
SUMMARY:The Manhattan Transfer
DESCRIPTION:Riding a wave of nostalgia in the '70s\, the Manhattan Transfer resurrected jazz trends from boogie-woogie to bop to vocalize in a slick\, slightly commercial setting that sometimes failed to gel with the group's close harmonies. Originally formed in 1969\, the quartet recorded several albums of jazz standards as well as much material closer to R&B/pop. Still\, they were easily the most popular jazz vocal group of their era\, and the most talented of any since the heyday of Lambert\, Hendricks & Ross during the early '60s.
X-ALT-DESC;FMTTYPE=text/html:Riding a wave of nostalgia in the &#39\;70s\, the Manhattan Transfer resurrected jazz trends from boogie-woogie to bop to vocalize in a slick\, slightly commercial setting that sometimes failed to gel with the group&#39\;s close harmonies. Originally formed in 1969\, the quartet recorded several albums of jazz standards as well as much material closer to R&amp\;B/pop. Still\, they were easily the most popular jazz vocal group of their era\, and the most talented of any since the heyday of Lambert\, Hendricks &amp\; Ross during the early &#39\;60s.
LOCATION:Smoky Mountain Center for the Performing Arts 1028 Georgia Road Franklin\, NC 28734
UID:e.256.27842
SEQUENCE:3
DTSTAMP:20260424T020207Z
URL:https://members.visitblairsvillega.com/events/details/the-manhattan-transfer-12-06-2014-27842
END:VEVENT

END:VCALENDAR
