BEGIN:VCALENDAR
VERSION:2.0
PRODID:-//ChamberMaster//Event Calendar 2.0//EN
METHOD:PUBLISH
X-PUBLISHED-TTL:P3D
REFRESH-INTERVAL:P3D
CALSCALE:GREGORIAN
BEGIN:VEVENT
DTSTART:20140209T002500Z
DTEND:20140209T023000Z
X-MICROSOFT-CDO-ALLDAYEVENT:FALSE
SUMMARY:The Martins
DESCRIPTION:It's been years since their last homerun\, which took place amidst a winning career that took them from the regional church platforms of Arkansas to the major leagues of the Gaither HOMECOMING stages\, Carnegie Hall\, The Grand Ole Opry and the White House. What would it feel like\, almost a decade later\, to step up to the plate and swing that bat again! Not only did legendary vocal group The Martins hit the ball outside of the park\, they have landed a grand slam with their all-new Gaither Music Group recording New Day.
X-ALT-DESC;FMTTYPE=text/html:It&#39\;s been years since their last homerun\, which took place amidst a winning career that took them from the regional church platforms of Arkansas to the major leagues of the Gaither HOMECOMING stages\, Carnegie Hall\, The Grand Ole Opry and the White House. What would it feel like\, almost a decade later\, to step up to the plate and swing that bat again! Not only did legendary vocal group The Martins hit the ball outside of the park\, they have landed a grand slam with their all-new Gaither Music Group recording New Day.
LOCATION:Smoky Mountain Center for the Performing Arts 1028 Georgia Road Franklin\, NC 28734
UID:e.256.21876
SEQUENCE:3
DTSTAMP:20260424T164337Z
URL:https://members.visitblairsvillega.com/events/details/the-martins-02-08-2014-21876
END:VEVENT

END:VCALENDAR
