BEGIN:VCALENDAR
VERSION:2.0
PRODID:-//ChamberMaster//Event Calendar 2.0//EN
METHOD:PUBLISH
X-PUBLISHED-TTL:P3D
REFRESH-INTERVAL:P3D
CALSCALE:GREGORIAN
BEGIN:VEVENT
DTSTART:20171126T000000Z
DTEND:20171126T020000Z
X-MICROSOFT-CDO-ALLDAYEVENT:FALSE
SUMMARY:The Mountain Faith Band Sounds of Christmas DVD Premiere Event
DESCRIPTION:Join Mountain Faith as they celebrate the sounds of the season with a DVD premiere event. Taped live on the stage of the Smoky Mountain Center for the Performing Arts\, and featuring family traditions\, heart-warming Christmas classics and a few surprises\, this new DVD is sure to become treasured viewing year after year. Enjoy a live pre-show concert by Mountain Faith before the premiere presentation.
X-ALT-DESC;FMTTYPE=text/html:Join Mountain Faith as they celebrate the sounds of the season with a DVD premiere event. Taped live on the stage of the Smoky Mountain Center for the Performing Arts\, and featuring family traditions\, heart-warming Christmas classics and a few surprises\, this new DVD is sure to become treasured viewing year after year. Enjoy a live pre-show concert by Mountain Faith before the premiere presentation.
LOCATION:Smoky Mountain Center for the Performing Arts 1028 Georgia Road Franklin\, NC 28734
UID:e.256.75373
SEQUENCE:3
DTSTAMP:20260419T160713Z
URL:https://members.visitblairsvillega.com/events/details/the-mountain-faith-band-sounds-of-christmas-dvd-premiere-event-75373
END:VEVENT

END:VCALENDAR
