BEGIN:VCALENDAR
VERSION:2.0
PRODID:-//ChamberMaster//Event Calendar 2.0//EN
METHOD:PUBLISH
X-PUBLISHED-TTL:P3D
REFRESH-INTERVAL:P3D
CALSCALE:GREGORIAN
BEGIN:VEVENT
DTSTART:20151029T213000Z
DTEND:20151030T000000Z
X-MICROSOFT-CDO-ALLDAYEVENT:FALSE
SUMMARY:The Mountain M+Arty Masquerade Party
DESCRIPTION:The M+Arty Party is the most fun and effective monthly networking event for you to expand your business network in 2015. FREE Event FREE Food  FREE Drink and Fantastic Networking. This month's theme is MASQUERADE so break out your fancy masks!
X-ALT-DESC;FMTTYPE=text/html:The M+Arty Party is the most fun and effective monthly networking event for you to expand your business network in 2015. FREE Event FREE Food&nbsp\; FREE Drink and Fantastic Networking. This month&#39\;s theme is MASQUERADE so break out your fancy masks!
LOCATION:Union County Community Center 129 Union County Recreation Rd. Blairsville\, GA
UID:e.256.43939
SEQUENCE:3
DTSTAMP:20260423T102850Z
URL:https://members.visitblairsvillega.com/events/details/the-mountain-m-arty-masquerade-party-10-29-2015-43939
END:VEVENT

END:VCALENDAR
