BEGIN:VCALENDAR
VERSION:2.0
PRODID:-//ChamberMaster//Event Calendar 2.0//EN
METHOD:PUBLISH
X-PUBLISHED-TTL:P3D
REFRESH-INTERVAL:P3D
CALSCALE:GREGORIAN
BEGIN:VEVENT
DTSTART:20150924T213000Z
DTEND:20150925T000000Z
X-MICROSOFT-CDO-ALLDAYEVENT:FALSE
SUMMARY:The Mountain M+Arty Party Business Networking
DESCRIPTION:The M+Arty Party is the most fun and effective monthly networking event for you to expand your business network in 2015. FREE Event FREE Food  FREE Drink and Fantastic Networking.
X-ALT-DESC;FMTTYPE=text/html:The M+Arty Party is the most fun and effective monthly networking event for you to expand your business network in 2015. FREE Event FREE Food&nbsp\; FREE Drink and Fantastic Networking.
LOCATION:SERVPRO of Union Towns Fannin & Gilmer Counties 117 Industrial Park Dr. Young Harris\, Georgia 30582
UID:e.256.43935
SEQUENCE:3
DTSTAMP:20260423T121850Z
URL:https://members.visitblairsvillega.com/events/details/the-mountain-m-arty-party-business-networking-09-24-2015-43935
END:VEVENT

END:VCALENDAR
