BEGIN:VCALENDAR
VERSION:2.0
PRODID:-//ChamberMaster//Event Calendar 2.0//EN
METHOD:PUBLISH
X-PUBLISHED-TTL:P3D
REFRESH-INTERVAL:P3D
CALSCALE:GREGORIAN
BEGIN:VEVENT
DTSTART:20141030T220000Z
DTEND:20141031T000000Z
X-MICROSOFT-CDO-ALLDAYEVENT:FALSE
SUMMARY:The Mountain Marty Masquerade Party
DESCRIPTION:The Mountain Marty Masquerade Party  Masks Optional (no costumes please)\n\nOctober 30th  6:00pm - 8:00pm\n\nEvent Held at:\n\nUnion County Community Center\, 129 Union County Rec Rd.\, Blairsville\n\nEvent is FREE\n\nFREE Food\n\nFREE Drinks\n\nIncredible Business Networking\n\nPLUS:...\n\nFREE Chair Massages by David Wolf\n\n\n\nSponsored by Union County Community Center\, The View and Backyard Enclosures https://www.facebook.com/events/1469237270003464/\n\nCall Vickie Levy @ 404-729-0440 for more information
X-ALT-DESC;FMTTYPE=text/html:The Mountain Marty Masquerade Party&nbsp\; Masks Optional (no costumes please)<br />\nOctober 30th&nbsp\;&nbsp\;6:00pm - 8:00pm<br />\nEvent Held at:<br />\nUnion County Community Center\, 129 Union County Rec Rd.\, Blairsville<br />\n<span style="font-size: 11px\;">Event is FREE<br />\nFREE Food<br />\nFREE Drinks<br />\nIncredible Business Networking<br />\nPLUS:<span class="text_exposed_hide">...</span><br />\n<span class="text_exposed_show">FREE Chair Massages by David Wolf</span></span><br />\n<br />\nSponsored by Union County Community Center\, The View and Backyard Enclosures https://www.facebook.com/events/1469237270003464/<br />\nCall Vickie Levy @&nbsp\;404-729-0440 for more information
LOCATION:Union County Community Center 129 Union County Rec Rd (Butternut Creek Golf Course) Blairsville
UID:e.256.27672
SEQUENCE:3
DTSTAMP:20260424T045335Z
URL:https://members.visitblairsvillega.com/events/details/the-mountain-marty-masquerade-party-10-30-2014-27672
END:VEVENT

END:VCALENDAR
