BEGIN:VCALENDAR
VERSION:2.0
PRODID:-//ChamberMaster//Event Calendar 2.0//EN
METHOD:PUBLISH
X-PUBLISHED-TTL:P3D
REFRESH-INTERVAL:P3D
CALSCALE:GREGORIAN
BEGIN:VEVENT
DTSTART:20170304T003000Z
DTEND:20170304T023000Z
X-MICROSOFT-CDO-ALLDAYEVENT:FALSE
SUMMARY:The Nitty Gritty Dirt Band
DESCRIPTION:Celebrating their Golden (50th) Anniversary together\, the iconic and profoundly influential Nitty Gritty Dirt Band\, often cited as a catalyst for an entire movement in Country Rock and American Roots Music\, continues to add to their legendary status. With multi-platinum and gold records\, strings of top ten hits such as "Fishin' In The Dark" and "Mr. Bojangles"\, multiple Grammy\, IBMA\, CMA Awards and nominations\, the band's accolades continue to accumulate. Their groundbreaking "Will The Circle Be Unbroken" album has been inducted into the U.S. Library of Congress as well as the Grammy Hall of Fame. Come join Jeff\, Jimmie\, Bob and John as they celebrate "50 Years of Dirt!"
X-ALT-DESC;FMTTYPE=text/html:Celebrating their Golden (50th) Anniversary together\, the iconic and profoundly influential Nitty Gritty Dirt Band\, often cited as a catalyst for an entire movement in Country Rock and American Roots Music\, continues to add to their legendary status. With multi-platinum and gold records\, strings of top ten hits such as &quot\;Fishin&#39\; In The Dark&quot\; and &quot\;Mr. Bojangles&quot\;\, multiple Grammy\, IBMA\, CMA Awards and nominations\, the band&#39\;s accolades continue to accumulate. Their groundbreaking &quot\;Will The Circle Be Unbroken&quot\; album has been inducted into the U.S. Library of Congress as well as the Grammy Hall of Fame. Come join Jeff\, Jimmie\, Bob and John as they celebrate &quot\;50 Years of Dirt!&quot\;
LOCATION:Smoky Mountain Center for the Performing Arts 1028 Georgia Road Franklin\, NC 28734
UID:e.256.62173
SEQUENCE:3
DTSTAMP:20260420T042405Z
URL:https://members.visitblairsvillega.com/events/details/the-nitty-gritty-dirt-band-62173
END:VEVENT

END:VCALENDAR
