BEGIN:VCALENDAR
VERSION:2.0
PRODID:-//ChamberMaster//Event Calendar 2.0//EN
METHOD:PUBLISH
X-PUBLISHED-TTL:P3D
REFRESH-INTERVAL:P3D
CALSCALE:GREGORIAN
BEGIN:VEVENT
DTSTART:20160406T233000Z
DTEND:20160407T013000Z
X-MICROSOFT-CDO-ALLDAYEVENT:FALSE
SUMMARY:The North Carolina Symphony
DESCRIPTION:Date: April 6\, 2016 Show Time: 7:30pm Ticket Prices: FREE- General Admission - Sold at door The North Carolina Symphony\, led by Associate Conductor David Glover\, will perform a program of classical favorites\, including Rossini's Overature to William Tell\, the Blue Danube Waltz by Johann Strauss\, Jr.\, Tchaikovsky's Fantasy Overature from Romeo and Juliet and more in this free concert. Founded in 1932\, the North Carolina Symphony gives more than 200 performances annually to adults and school children in more than 50 North Carolina counties. An entity of the North Carolina Department of Natural and Cultural Resources\, the orchestra employs 66 professional musicians\, under the artistic leadership of Music Director and Conductor\, Grant Llewellyn\, Resident Conductor William Henry Curry and Associate Conductor David Glover.
X-ALT-DESC;FMTTYPE=text/html:Date: April 6\, 2016 Show Time: 7:30pm Ticket Prices: FREE- General Admission - Sold at door The North Carolina Symphony\, led by Associate Conductor David Glover\, will perform a program of classical favorites\, including Rossini&#39\;s Overature to William Tell\, the Blue Danube Waltz by Johann Strauss\, Jr.\, Tchaikovsky&#39\;s Fantasy Overature from Romeo and Juliet and more in this free concert. Founded in 1932\, the North Carolina Symphony gives more than 200 performances annually to adults and school children in more than 50 North Carolina counties. An entity of the North Carolina Department of Natural and Cultural Resources\, the orchestra employs 66 professional musicians\, under the artistic leadership of Music Director and Conductor\, Grant Llewellyn\, Resident Conductor William Henry Curry and Associate Conductor David Glover.
LOCATION:Smoky Mountain Center for the Performing Arts 1028 Georgia Road Franklin\, NC 28734
UID:e.256.48256
SEQUENCE:3
DTSTAMP:20260421T002247Z
URL:https://members.visitblairsvillega.com/events/details/the-north-carolina-symphony-04-06-2016-48256
END:VEVENT

END:VCALENDAR
