BEGIN:VCALENDAR
VERSION:2.0
PRODID:-//ChamberMaster//Event Calendar 2.0//EN
METHOD:PUBLISH
X-PUBLISHED-TTL:P3D
REFRESH-INTERVAL:P3D
CALSCALE:GREGORIAN
BEGIN:VEVENT
DTSTART:20161217T190000Z
DTEND:20161217T210000Z
X-MICROSOFT-CDO-ALLDAYEVENT:FALSE
SUMMARY:The Nutcracker Ballet
DESCRIPTION:On a very special Christmas Eve\, a young girl named Natasha receives a beautiful gift in the form of a nutcracker. Through dreams and magic\, Natasha is rescued from the evil Rat King by the nutcracker and taken on an exciting adventure to the Snowflake Forest and Land of Sweets where she meets many new friends. Set to the music of Tchaikovsky\, this heart-warming holiday classic is perfect for the entire family. A full\, two-act ballet presented by A Family of Friends Productions in conjunction with Betsy's School of Dance.
X-ALT-DESC;FMTTYPE=text/html:On a very special Christmas Eve\, a young girl named Natasha receives a beautiful gift in the form of a nutcracker. Through dreams and magic\, Natasha is rescued from the evil Rat King by the nutcracker and taken on an exciting adventure to the Snowflake Forest and Land of Sweets where she meets many new friends. Set to the music of Tchaikovsky\, this heart-warming holiday classic is perfect for the entire family. A full\, two-act ballet presented by A Family of Friends Productions in conjunction with Betsy&#39\;s School of Dance.
LOCATION:Smoky Mountain Center for the Performing Arts 1028 Georgia Road Franklin\, NC 28734
UID:e.256.49416
SEQUENCE:3
DTSTAMP:20260420T092624Z
URL:https://members.visitblairsvillega.com/events/details/the-nutcracker-ballet-12-17-2016-49416
END:VEVENT

END:VCALENDAR
