BEGIN:VCALENDAR
VERSION:2.0
PRODID:-//ChamberMaster//Event Calendar 2.0//EN
METHOD:PUBLISH
X-PUBLISHED-TTL:P3D
REFRESH-INTERVAL:P3D
CALSCALE:GREGORIAN
BEGIN:VEVENT
DTSTART:20150206T201500Z
DTEND:20150206T221500Z
X-MICROSOFT-CDO-ALLDAYEVENT:FALSE
SUMMARY:THE OFFICE OF SHERIFF IN GEORGIA AND BASIC PERSONAL SAFETY
DESCRIPTION:THE OFFICE OF SHERIFF IN GEORGIA AND BASIC PERSONAL SAFETY
X-ALT-DESC;FMTTYPE=text/html:<span style="font-family: &quot\;Times New Roman&quot\;\,&quot\;serif&quot\;\; font-size: 12pt\; mso-fareast-font-family: Calibri\; mso-fareast-theme-font: minor-latin\; mso-ansi-language: EN-US\; mso-fareast-language: EN-US\; mso-bidi-language: AR-SA\;"><strong><font color="#000000">THE OFFICE OF SHERIFF IN GEORGIA AND BASIC PERSONAL SAFETY </font></strong></span>
LOCATION:ICL classroom at Young Harris College
UID:e.256.36911
SEQUENCE:3
DTSTAMP:20260423T230221Z
URL:https://members.visitblairsvillega.com/events/details/the-office-of-sheriff-in-georgia-and-basic-personal-safety-02-06-2015-36911
END:VEVENT

END:VCALENDAR
