BEGIN:VCALENDAR
VERSION:2.0
PRODID:-//ChamberMaster//Event Calendar 2.0//EN
METHOD:PUBLISH
X-PUBLISHED-TTL:P3D
REFRESH-INTERVAL:P3D
CALSCALE:GREGORIAN
BEGIN:VEVENT
DTSTART:20150210T201500Z
DTEND:20150210T221500Z
X-MICROSOFT-CDO-ALLDAYEVENT:FALSE
SUMMARY:THE OFFICE OF SHERIFF IN GEORGIA AND BASIC PERSONAL SAFETY
DESCRIPTION:This class is for anyone who would like to learn the basic awareness needed to help prevent becoming the victim of a violent crime. Students will learn simple\, yet effective ways to protect themselves. This class is appropriate for any age adult at any level of fitness. This class will be a very honest look at the mindset of criminals and the mindset needed to avoid or overcome an encounter with a violent criminal.
X-ALT-DESC;FMTTYPE=text/html:<p align="LEFT"><font face="Calibri" size="3"><font face="Calibri" size="3">This class is for anyone who would like to learn the basic awareness </font></font><font face="Calibri" size="3"><font face="Calibri" size="3">needed to help prevent becoming the victim of a violent crime. Students will learn simple\, yet effective ways to protect </font></font><font face="Calibri" size="3"><font face="Calibri" size="3">themselves. This class is appropriate for any age adult at any level of fitness. This class will be a very honest look at the </font></font><font face="Calibri" size="3"><font face="Calibri" size="3">mindset of criminals and the mindset needed to avoid or overcome an encounter with a violent criminal.</font></font></p>\n
LOCATION:ICL classroom at Young Harris College
UID:e.256.36913
SEQUENCE:3
DTSTAMP:20260423T230239Z
URL:https://members.visitblairsvillega.com/events/details/the-office-of-sheriff-in-georgia-and-basic-personal-safety-02-10-2015-36913
END:VEVENT

END:VCALENDAR
