BEGIN:VCALENDAR
VERSION:2.0
PRODID:-//ChamberMaster//Event Calendar 2.0//EN
METHOD:PUBLISH
X-PUBLISHED-TTL:P3D
REFRESH-INTERVAL:P3D
CALSCALE:GREGORIAN
BEGIN:VEVENT
DTSTART:20170407T210000Z
DTEND:20170407T230000Z
X-MICROSOFT-CDO-ALLDAYEVENT:FALSE
SUMMARY:The Photography of Linda Coatsworth: 2nd Qtr Artist in Residence Opening Reception
DESCRIPTION:Award winning photographer\, Linda Coatsworth\, presents her stunning photography during the 2nd Quarter Artist-in-Residency at the Art Center. This exhibit will be on display through July 1\, 2017.
X-ALT-DESC;FMTTYPE=text/html:<span style="font-size:12pt"><span style="font-family:adobe caslon pro bold\,serif">Award winning photographer\, Linda Coatsworth\, presents her stunning photography during the 2<sup>nd</sup> Quarter Artist-in-Residency at the Art Center.</span></span><span style="font-size:12pt"><span style="font-family:adobe caslon pro bold\,serif"><span style="color:black">&nbsp\;This exhibit will be on display through July 1\, 2017.</span></span></span><br />\n<br />\n&nbsp\;
LOCATION:Blue Ridge Mountains Arts Association 420 West Main Street Blue Ridge\, GA 30513
UID:e.256.71075
SEQUENCE:3
DTSTAMP:20260420T035551Z
URL:https://members.visitblairsvillega.com/events/details/the-photography-of-linda-coatsworth-2nd-qtr-artist-in-residence-opening-reception-71075
END:VEVENT

END:VCALENDAR
