BEGIN:VCALENDAR
VERSION:2.0
PRODID:-//ChamberMaster//Event Calendar 2.0//EN
METHOD:PUBLISH
X-PUBLISHED-TTL:P3D
REFRESH-INTERVAL:P3D
CALSCALE:GREGORIAN
BEGIN:VEVENT
DTSTART:20140211T150000Z
DTEND:20140211T230000Z
X-MICROSOFT-CDO-ALLDAYEVENT:FALSE
SUMMARY:The Photography of Tom Kells
DESCRIPTION:Celebrate Tom Kells' edgy and also conventional photographs and photographic based mixed-media ensembles\, each with its own story and symphony through the use of movement\, color and things that may not be obvious.  Opening Reception\, January 18\, 5-7pm.
X-ALT-DESC;FMTTYPE=text/html:<span style="font-size: 12pt\;"><span style="font-family: adobe caslon pro bold\,serif\;">Celebrate Tom Kells&rsquo\; edgy and also conventional photographs and photographic based mixed-media ensembles\, each with its own story and symphony through the use of movement\, color and things that may not be obvious.<font face="Arial">&nbsp\; Opening Reception\, January 18\, 5-7pm.</font></span></span><br />\n
LOCATION:Blue Ridge Mountains Arts Association (The Art Center) 420 West Main Street Blue Ridge\, GA 30513
UID:e.256.22180
SEQUENCE:3
DTSTAMP:20260424T165337Z
URL:https://members.visitblairsvillega.com/events/details/the-photography-of-tom-kells-02-11-2014-22180
END:VEVENT

END:VCALENDAR
