BEGIN:VCALENDAR
VERSION:2.0
PRODID:-//ChamberMaster//Event Calendar 2.0//EN
METHOD:PUBLISH
X-PUBLISHED-TTL:P3D
REFRESH-INTERVAL:P3D
CALSCALE:GREGORIAN
BEGIN:VEVENT
DTSTART:20140719T150000Z
DTEND:20140719T200000Z
X-MICROSOFT-CDO-ALLDAYEVENT:FALSE
SUMMARY:The Reece Farm & Heritage Center Tour
DESCRIPTION:"The people of the Appalachians depended on nature and their surroundings for their very survival. Come see demonstrations of various mountain crafts including soap making\, pottery making\, metal sculpture\, woodworking\, chair caning\, storytelling\, spinning and sewing\, herbal remedies and wild edibles at the Byron Herbert Reece Farm & Heritage Center on Saturday\, July 19th from 11 am to 4 pm. Many of these crafts will be on sale as well. Admission to this program is FREE. There is a $3.00 admission fee for those 12 and over who wish to tour the venue?s exhibits. For more information contact the Reece Center at 706-745-2034. The Reece Farm & Heritage Center is located on U.S. 129\, 9 miles south of Blairsville\, GA near Vogel State Park."
X-ALT-DESC;FMTTYPE=text/html:&quot\;The people of the Appalachians depended on nature and their surroundings for their very survival. Come see demonstrations of various mountain crafts including soap making\, pottery making\, metal sculpture\, woodworking\, chair caning\, storytelling\, spinning and sewing\, herbal remedies and wild edibles at the Byron Herbert Reece Farm &amp\; Heritage Center on Saturday\, July 19th from 11 am to 4 pm. Many of these crafts will be on sale as well. Admission to this program is FREE. There is a $3.00 admission fee for those 12 and over who wish to tour the venue?s exhibits. For more information contact the Reece Center at 706-745-2034. The Reece Farm &amp\; Heritage Center is located on U.S. 129\, 9 miles south of Blairsville\, GA near Vogel State Park.&quot\;
LOCATION:Byron Herbert Reece Farm & Heritage Farm 19/129S\, 9 south of Blairsville before Vogel State Park
UID:e.256.25355
SEQUENCE:3
DTSTAMP:20260424T092221Z
URL:https://members.visitblairsvillega.com/events/details/the-reece-farm-heritage-center-tour-07-19-2014-25355
END:VEVENT

END:VCALENDAR
