BEGIN:VCALENDAR
VERSION:2.0
PRODID:-//ChamberMaster//Event Calendar 2.0//EN
METHOD:PUBLISH
X-PUBLISHED-TTL:P3D
REFRESH-INTERVAL:P3D
CALSCALE:GREGORIAN
BEGIN:VEVENT
DTSTART:20170819T233000Z
DTEND:20170820T013000Z
X-MICROSOFT-CDO-ALLDAYEVENT:FALSE
SUMMARY:The Return (Beatles Tribute) –
DESCRIPTION:Beatlemania is alive and well and sweeping the country! The Return\, recognized as one of the premier Beatles tribute bands in America\, is considered by many critics to be the most realistic cast paying tribute to the "Fab Four." From the mop-top haircuts and sixties-style suits and boots to the musical instruments and stage equipment\, every detail from The Beatles' early live performances has been studied and carefully recreated. The Return's authenticity truly makes it possible for music fans from every generation to experience Beatlemania!
X-ALT-DESC;FMTTYPE=text/html:Beatlemania is alive and well and sweeping the country! The Return\, recognized as one of the premier Beatles tribute bands in America\, is considered by many critics to be the most realistic cast paying tribute to the &quot\;Fab Four.&quot\; From the mop-top haircuts and sixties-style suits and boots to the musical instruments and stage equipment\, every detail from The Beatles&#39\; early live performances has been studied and carefully recreated. The Return&#39\;s authenticity truly makes it possible for music fans from every generation to experience Beatlemania!
LOCATION:Smoky Mountain Center for the Performing Arts 1028 Georgia Road Franklin\, NC 28734
UID:e.256.69229
SEQUENCE:3
DTSTAMP:20260419T210158Z
URL:https://members.visitblairsvillega.com/events/details/the-return-beatles-tribute-69229
END:VEVENT

END:VCALENDAR
