BEGIN:VCALENDAR
VERSION:2.0
PRODID:-//ChamberMaster//Event Calendar 2.0//EN
METHOD:PUBLISH
X-PUBLISHED-TTL:P3D
REFRESH-INTERVAL:P3D
CALSCALE:GREGORIAN
BEGIN:VEVENT
DTSTART:20141026T180000Z
DTEND:20141026T210000Z
X-MICROSOFT-CDO-ALLDAYEVENT:FALSE
SUMMARY:The Ridges Resort Fall-a-bration & Trunk -or-Treat
DESCRIPTION:Fall-a-bration & Trunk-or-Treat \n\nSunday\, October 26\, 2014\n\n2pm - 5pm\n\n	Candy\n	Boat Rides\n	Games\n	and more!\n\nLocal Businesses and Community Organizations gather together to celebrate the Harvest Season. Come out and enjoy a safe environment for the kids!
X-ALT-DESC;FMTTYPE=text/html:<strong>Fall-a-bration &amp\; Trunk-or-Treat </strong><br />\nSunday\, October 26\, 2014<br />\n2pm - 5pm\n<ul>\n	<li>Candy</li>\n	<li>Boat Rides</li>\n	<li>Games</li>\n	<li>and more!</li>\n</ul>\n<span style="font-family: comic sans ms\;">Local Businesses and Community Organizations gather together to celebrate the Harvest Season. Come out and enjoy a safe environment for the kids!</span>
LOCATION:The Ridges Resort Hiawassee
UID:e.256.27676
SEQUENCE:3
DTSTAMP:20260424T061542Z
URL:https://members.visitblairsvillega.com/events/details/the-ridges-resort-fall-a-bration-trunk-or-treat-10-26-2014-27676
END:VEVENT

END:VCALENDAR
