BEGIN:VCALENDAR
VERSION:2.0
PRODID:-//ChamberMaster//Event Calendar 2.0//EN
METHOD:PUBLISH
X-PUBLISHED-TTL:P3D
REFRESH-INTERVAL:P3D
CALSCALE:GREGORIAN
BEGIN:VEVENT
DTSTART:20140919T113000Z
DTEND:20140919T180000Z
X-MICROSOFT-CDO-ALLDAYEVENT:FALSE
SUMMARY:The ROI of Ethical Leadership in Business Symposium
DESCRIPTION:ROI Institute\, Inc.\n\nof Ethical Leadership in Business Symposium\n\nFriday\, September 19\, 2014 7:30am - 2:00pm\n\nForsyth Conference Center\, Cumming\, GA\n\n\n\nSymposium Speakers\n\nOpening Address\n\nMr. Joel Manby\, President & CEO\, Herschend Family Entertainment\; Author\, Love Works\n\n\n\nSession I Five Principles for Making the Right Choice Every Time\n\nDr. Bruce Weinstein\, The Ethics Guy\; Author: "Ethical Intelligence" and "Is It Still Cheating If I Don't Caught?"\n\n\n\nSession II Giving Voice To Values\n\nThe "How " of Values-Driven Leadership\n\nDr. Mary Gentile\, Author & Director\, Giving Voice To Values\; Senior Research Scholar\, Babson College\n\n\n\nSession III Second Chances\n\nCreating a Culture That Supports Human Ehtics\n\nMr. Chuck Gallagher\, COO\, American Funeral Financial\;\n\nPresident\, Ethics Resource Group\; Business Ethics Expert\n\n\n\nSession IV Smart Phones & Smart Choices\n\nPotential Risks of Everyday Leadership Tools\n\nDr. Bruce Weinstein\, The Ethics Guy\; Author: "Ethical Intelligence" and "Is It Still Cheating If I Don't Get Caught?"\n\n\n\nFor tickets & Information : www.BBTCEBL.UNG.EDU
X-ALT-DESC;FMTTYPE=text/html:ROI Institute\, Inc.<br />\nof Ethical Leadership in Business Symposium<br />\nFriday\, September 19\, 2014 7:30am - 2:00pm<br />\nForsyth Conference Center\, Cumming\, GA<br />\n<br />\n<strong>Symposium Speakers</strong><br />\nOpening Address<br />\nMr. Joel Manby\, President &amp\; CEO\, Herschend Family Entertainment\; Author\, Love Works<br />\n<br />\nSession I Five Principles for Making the Right Choice Every Time<br />\nDr. Bruce Weinstein\, The Ethics Guy\; Author: &quot\;Ethical Intelligence&quot\; and &quot\;Is It Still Cheating If I Don&#39\;t Caught?&quot\;<br />\n<br />\nSession II Giving Voice To Values<br />\nThe &quot\;How &quot\; of Values-Driven Leadership<br />\nDr. Mary Gentile\, Author &amp\; Director\, Giving Voice To Values\; Senior Research Scholar\, Babson College<br />\n<br />\nSession III Second Chances<br />\nCreating a Culture That Supports Human Ehtics<br />\nMr. Chuck Gallagher\, COO\, American Funeral Financial\;<br />\nPresident\, Ethics Resource Group\; Business Ethics Expert<br />\n<br />\nSession IV Smart Phones &amp\; Smart Choices<br />\nPotential Risks of Everyday Leadership Tools<br />\nDr. Bruce Weinstein\, The Ethics Guy\; Author: &quot\;Ethical Intelligence&quot\; and &quot\;Is It Still Cheating If I Don&#39\;t Get Caught?&quot\;<br />\n<br />\nFor tickets &amp\; Information : www.BBTCEBL.UNG.EDU<br />\n<br />\n<br />\n&nbsp\;
LOCATION:Forsyth Conference Center Cumming\, GA
UID:e.256.27272
SEQUENCE:3
DTSTAMP:20260424T063508Z
URL:https://members.visitblairsvillega.com/events/details/the-roi-of-ethical-leadership-in-business-symposium-09-19-2014-27272
END:VEVENT

END:VCALENDAR
