BEGIN:VCALENDAR
VERSION:2.0
PRODID:-//ChamberMaster//Event Calendar 2.0//EN
METHOD:PUBLISH
X-PUBLISHED-TTL:P3D
REFRESH-INTERVAL:P3D
CALSCALE:GREGORIAN
BEGIN:VEVENT
DTSTART:20140607T233000Z
DTEND:20140608T020000Z
X-MICROSOFT-CDO-ALLDAYEVENT:FALSE
SUMMARY:The Roxie Watson Band
DESCRIPTION:The Roxie Watson Band\, a five-piece string band from Decatur and Atlanta\, is back for two exciting nights  featuring two different sets of music  on Friday & Saturday\, June 6&7.   The all female band creatively mix three- and four-part harmonies with elements of old country\, Appalachian music\, hymns\, and bluegrass.  ?When you have a group of women who are natural story-tellers\, who sooth their aggressive musical chops with beautiful harmonies\, temper their rock-n-roll sensibilities with an understanding of Appalachian tradition\, and come off as a little bit Keith Richards\, a little bit Bill Monroe\, you get Roxie Watson\,? stated Lisa Love of Georgia Music Magazine and the Georgia Music Foundation. The band is considered one of the finest original bands in the Southeast\, regularly selling out storied songwriting venues from Eddie?s Attic in Decatur\, GA to the Bluebird Cafe in Nashville\, TN.  ?Blue Ridge residents and visitors have a special treat in store when Roxie Watson comes to town\,? stated Webb\, ?We brought them back for a special two night performance so everyone will get an opportunity to hear this outstanding group.?  For more information on the band go to www.roxiewatson.com.   Live Music Is Better concert series is sponsored by the Blue Ridge Community Theater\, Inc. a 501- (c) 3 volunteer based non-profit corporation committed to bringing excellent performing arts entertainment to the North Georgia communities. For more information about Main Stage productions\, Sunny D Children?s Theater or the music concert series go to www.BlueRidgeCommunityTheater.com. Theater is located at 2591 East First Street.
X-ALT-DESC;FMTTYPE=text/html:The Roxie Watson Band\, a five-piece string band from Decatur and Atlanta\, is back for two exciting nights &nbsp\;featuring two different sets of music &nbsp\;on Friday &amp\; Saturday\, June 6&amp\;7. &nbsp\; The all female band creatively mix three- and four-part harmonies with elements of old country\, Appalachian music\, hymns\, and bluegrass. &nbsp\;?When you have a group of women who are natural story-tellers\, who sooth their aggressive musical chops with beautiful harmonies\, temper their rock-n-roll sensibilities with an understanding of Appalachian tradition\, and come off as a little bit Keith Richards\, a little bit Bill Monroe\, you get Roxie Watson\,? stated Lisa Love of Georgia Music Magazine and the Georgia Music Foundation. The band is considered one of the finest original bands in the Southeast\, regularly selling out storied songwriting venues from Eddie?s Attic in Decatur\, GA to the Bluebird Cafe in Nashville\, TN. &nbsp\;?Blue Ridge residents and visitors have a special treat in store when Roxie Watson comes to town\,? stated Webb\, ?We brought them back for a special two night performance so everyone will get an opportunity to hear this outstanding group.? &nbsp\;For more information on the band go to www.roxiewatson.com. &nbsp\; Live Music Is Better concert series is sponsored by the Blue Ridge Community Theater\, Inc. a 501- (c) 3 volunteer based non-profit corporation committed to bringing excellent performing arts entertainment to the North Georgia communities. For more information about Main Stage productions\, Sunny D Children?s Theater or the music concert series go to www.BlueRidgeCommunityTheater.com. Theater is located at 2591 East First Street.
LOCATION:Blue Ridge Community Theater 2591 East First Street Blue Ridge\, GA
UID:e.256.23707
SEQUENCE:3
DTSTAMP:20260424T105008Z
URL:https://members.visitblairsvillega.com/events/details/the-roxie-watson-band-06-07-2014-23707
END:VEVENT

END:VCALENDAR
