BEGIN:VCALENDAR
VERSION:2.0
PRODID:-//ChamberMaster//Event Calendar 2.0//EN
METHOD:PUBLISH
X-PUBLISHED-TTL:P3D
REFRESH-INTERVAL:P3D
CALSCALE:GREGORIAN
BEGIN:VEVENT
DTSTART:20170630T233000Z
DTEND:20170701T013000Z
X-MICROSOFT-CDO-ALLDAYEVENT:FALSE
SUMMARY:The Sock Hops: Red\, White and Doo-Wop
DESCRIPTION:Let's kick off 4th of July weekend with a drive down memory lane as The Sock Hops perform classic songs from all your favorite albums of the '50s\, '60s\, and '70s. Specializing in four-part harmonies\, The Sock Hops will have you singing along as they bring all the great American radio hits to the stage\, including "Why Do Fools Fall in Love?" "At the Hop\," "Sherry\," "The Lion Sleeps Tonight\," and "Come Go With Me."
X-ALT-DESC;FMTTYPE=text/html:Let&#39\;s kick off 4th of July weekend with a drive down memory lane as The Sock Hops perform classic songs from all your favorite albums of the &#39\;50s\, &#39\;60s\, and &#39\;70s. Specializing in four-part harmonies\, The Sock Hops will have you singing along as they bring all the great American radio hits to the stage\, including &quot\;Why Do Fools Fall in Love?&quot\; &quot\;At the Hop\,&quot\; &quot\;Sherry\,&quot\; &quot\;The Lion Sleeps Tonight\,&quot\; and &quot\;Come Go With Me.&quot\;
LOCATION:Smoky Mountain Center for the Performing Arts 1028 Georgia Road Franklin\, NC 28734
UID:e.256.69223
SEQUENCE:3
DTSTAMP:20260419T232934Z
URL:https://members.visitblairsvillega.com/events/details/the-sock-hops-red-white-and-doo-wop-69223
END:VEVENT

END:VCALENDAR
