BEGIN:VCALENDAR
VERSION:2.0
PRODID:-//ChamberMaster//Event Calendar 2.0//EN
METHOD:PUBLISH
X-PUBLISHED-TTL:P3D
REFRESH-INTERVAL:P3D
CALSCALE:GREGORIAN
BEGIN:VEVENT
DTSTART:20170324T233000Z
DTEND:20170325T013000Z
X-MICROSOFT-CDO-ALLDAYEVENT:FALSE
SUMMARY:The Texas Tenors
DESCRIPTION:With their Emmy Award winning PBS special and Billboard chart topping albums\, it's easy to see why The Texas Tenors are America's favorite new tenors. Since their whirlwind debut six years ago on NBC's America's Got Talent\, The Texas Tenors have accumulated a long list of awards\, accolades and excited fans. They have performed more than 1000 concerts around the world\, including collaborations with some of the most prestigious symphonies\, performing arts centers and arenas in the United States. People are clearly enjoying their talent as they were recently named the #10 Classical Artist in the world according to Billboard magazine. With their breathtaking vocals\, humor and a touch of cowboy charm\, it is easy to see why the Texas Tenors create one of the most unforgettable live shows in the world today.
X-ALT-DESC;FMTTYPE=text/html:With their Emmy Award winning PBS special and Billboard chart topping albums\, it&#39\;s easy to see why The Texas Tenors are America&#39\;s favorite new tenors. Since their whirlwind debut six years ago on NBC&#39\;s America&#39\;s Got Talent\, The Texas Tenors have accumulated a long list of awards\, accolades and excited fans. They have performed more than 1000 concerts around the world\, including collaborations with some of the most prestigious symphonies\, performing arts centers and arenas in the United States. People are clearly enjoying their talent as they were recently named the #10 Classical Artist in the world according to Billboard magazine. With their breathtaking vocals\, humor and a touch of cowboy charm\, it is easy to see why the Texas Tenors create one of the most unforgettable live shows in the world today.
LOCATION:Smoky Mountain Center for the Performing Arts 1028 Georgia Road Franklin\, NC 28734
UID:e.256.62176
SEQUENCE:3
DTSTAMP:20260420T042231Z
URL:https://members.visitblairsvillega.com/events/details/the-texas-tenors-62176
END:VEVENT

END:VCALENDAR
