BEGIN:VCALENDAR
VERSION:2.0
PRODID:-//ChamberMaster//Event Calendar 2.0//EN
METHOD:PUBLISH
X-PUBLISHED-TTL:P3D
REFRESH-INTERVAL:P3D
CALSCALE:GREGORIAN
BEGIN:VEVENT
DTSTART:20171215T003000Z
DTEND:20171215T023000Z
X-MICROSOFT-CDO-ALLDAYEVENT:FALSE
SUMMARY:The Troy Burns Family Christmas Spectacular
DESCRIPTION:Enjoy the Christmas season with a wonderful night of music and celebration hosted by the Troy Burns Family. Their guests include the Bowling Family\, The Bowling Sisters\, the Nelon's\, and the Sneed Family. With some of the most soaring voices in Southern Gospel music today\, "The Troy Burns Family Christmas Spectacular" will entertain\, inspire and fill the evening with Christmas delight. VIP Includes seating in the first two rows of the auditorium and a back stage meet and greet prior to the concert. Available VIP passes are limited.
X-ALT-DESC;FMTTYPE=text/html:Enjoy the Christmas season with a wonderful night of music and celebration hosted by the Troy Burns Family. Their guests include the Bowling Family\, The Bowling Sisters\, the Nelon&rsquo\;s\, and the Sneed Family. With some of the most soaring voices in Southern Gospel music today\, &quot\;The Troy Burns Family Christmas Spectacular&quot\; will entertain\, inspire and fill the evening with Christmas delight. VIP Includes seating in the first two rows of the auditorium and a back stage meet and greet prior to the concert. Available VIP passes are limited.
LOCATION:Smoky Mountain Center for the Performing Arts 1028 Georgia Road Franklin\, NC 28734
UID:e.256.75720
SEQUENCE:3
DTSTAMP:20260419T141831Z
URL:https://members.visitblairsvillega.com/events/details/the-troy-burns-family-christmas-spectacular-75720
END:VEVENT

END:VCALENDAR
