BEGIN:VCALENDAR
VERSION:2.0
PRODID:-//ChamberMaster//Event Calendar 2.0//EN
METHOD:PUBLISH
X-PUBLISHED-TTL:P3D
REFRESH-INTERVAL:P3D
CALSCALE:GREGORIAN
BEGIN:VEVENT
DTSTART:20140829T233000Z
DTEND:20140830T020000Z
X-MICROSOFT-CDO-ALLDAYEVENT:FALSE
SUMMARY:The Whisnants & The Old Paths
DESCRIPTION:The Whisnants: Over the years\, many Southern Gospel groups have come and gone. But there is one group that has stood the test of time. This Morganton\, North Carolina based group has been singing and ministering through song across the United States and Canada for 43 years.  The Old Paths: With loads of enthusiasm and ministry experience\, the Old Paths Quartet materialized out of Atlanta\, Georgia to become one of the most influential\, trend setting Christian groups in Southern Gospel.
X-ALT-DESC;FMTTYPE=text/html:The Whisnants: Over the years\, many Southern Gospel groups have come and gone. But there is one group that has stood the test of time. This Morganton\, North Carolina based group has been singing and ministering through song across the United States and Canada for 43 years.&nbsp\; The Old Paths: With loads of enthusiasm and ministry experience\, the Old Paths Quartet materialized out of Atlanta\, Georgia to become one of the most influential\, trend setting Christian groups in Southern Gospel.
LOCATION:Smoky Mountain Center for the Performing Arts 1028 Georgia Road Franklin\, NC 28734
UID:e.256.25471
SEQUENCE:3
DTSTAMP:20260424T073558Z
URL:https://members.visitblairsvillega.com/events/details/the-whisnants-the-old-paths-08-29-2014-25471
END:VEVENT

END:VCALENDAR
